BEGIN:VCALENDAR
VERSION:2.0
PRODID:-//Evangelische Kirchengemeinde Gütersloh - ECPv6.5.0.1//NONSGML v1.0//EN
CALSCALE:GREGORIAN
METHOD:PUBLISH
X-WR-CALNAME:Evangelische Kirchengemeinde Gütersloh
X-ORIGINAL-URL:https://www.ekgt.de
X-WR-CALDESC:Veranstaltungen für Evangelische Kirchengemeinde Gütersloh
REFRESH-INTERVAL;VALUE=DURATION:PT1H
X-Robots-Tag:noindex
X-PUBLISHED-TTL:PT1H
BEGIN:VTIMEZONE
TZID:Europe/Berlin
BEGIN:DAYLIGHT
TZOFFSETFROM:+0100
TZOFFSETTO:+0200
TZNAME:CEST
DTSTART:20260329T010000
END:DAYLIGHT
BEGIN:STANDARD
TZOFFSETFROM:+0200
TZOFFSETTO:+0100
TZNAME:CET
DTSTART:20261025T010000
END:STANDARD
END:VTIMEZONE
BEGIN:VEVENT
DTSTART;TZID=Europe/Berlin:20260315T100000
DTEND;TZID=Europe/Berlin:20260315T100000
DTSTAMP:20260422T025052
CREATED:20260224T084805Z
LAST-MODIFIED:20260224T084805Z
UID:10011719-1773568800-1773568800@www.ekgt.de
SUMMARY:Gospelgottesdienst
DESCRIPTION:Der 2. Gospelworkshop “Mitsing-Projekt” im Ev. Kirchenkreis Gütersloh startete Anfang 2026 in der Kirchengemeinde Senne-Emmaus – Chöre und Einzelsängerinnen und -sänger mit Chorerfahrung konnten sich anmelden.\nAm 15. März 2026 um 10 Uhr findet der dazugehörige Gospelgottesdienst für ALLE mit anschließendem offenen Singen in der Friedenskirche (Schopenhauerweg 14\, 33659 Bielefeld) statt.\nDort werden unteranderem auch die erprobten Stücke vom Projektchor vorgeführt. \nDie Ev. Kirchengemeinde Senne-Emmaus war schon 2024 Gastgeberin des ersten Gospel Mitsing-Projektes – damals noch unter Leitung von Popkantor Matthias Nagel und in Kooperation mit Alfred Schenk vom Emmaus Gospelchor. Das gemeinsame Singen in einem großen Chor und mit musikalischer Unterstützung einer Band war für alle Mitwirkenden ein besonderes Erlebnis\, und der Wunsch nach einer Wiederholung des Projekts war groß.\nSo konnte für das kommende Jahr Tim Edler als verantwortlicher Musiker gewonnen werden und auch die Emmaus Kirchengemeinde ist wieder als Kooperationspartnerin im Boot. Für den musikalischen Rahmen sorgen als Bandmitglieder neben Tim Edler und Alfred Schenk (Klavier) außerdem Ulrich Twelker (Schlagzeug) und Udo Kotulla (Bass). \n„Wir freuen uns\, dass dieses Projekt nach der großen Resonanz wieder stattfinden kann und sorgen als Kirchenkreis Gütersloh für den finanziellen Rahmen“\, sagt Pfarrer Frank Schneider\, Superintendent des Ev. Kirchenkreises Gütersloh. Er dankt schon jetzt der Kirchengemeinde Senne-Emmaus (ab 01.01.2026 Teil der Ev. Kirchengemeinde Bielefeld-Süd)\, Tim Edler sowie Daniela Fey\, die maßgeblich dazu beigetragen hat\, dass der Workshop wieder stattfinden kann. \nHerzliche Einladung zu dem Gospelgottesdienst!
URL:https://www.ekgt.de/veranstaltung/gospelgottesdienst/
LOCATION:Bielefeld
END:VEVENT
END:VCALENDAR