BEGIN:VCALENDAR
VERSION:2.0
PRODID:-//Evangelische Kirchengemeinde Gütersloh - ECPv6.5.0.1//NONSGML v1.0//EN
CALSCALE:GREGORIAN
METHOD:PUBLISH
X-WR-CALNAME:Evangelische Kirchengemeinde Gütersloh
X-ORIGINAL-URL:https://www.ekgt.de
X-WR-CALDESC:Veranstaltungen für Evangelische Kirchengemeinde Gütersloh
REFRESH-INTERVAL;VALUE=DURATION:PT1H
X-Robots-Tag:noindex
X-PUBLISHED-TTL:PT1H
BEGIN:VTIMEZONE
TZID:Europe/Berlin
BEGIN:DAYLIGHT
TZOFFSETFROM:+0100
TZOFFSETTO:+0200
TZNAME:CEST
DTSTART:20260329T010000
END:DAYLIGHT
BEGIN:STANDARD
TZOFFSETFROM:+0200
TZOFFSETTO:+0100
TZNAME:CET
DTSTART:20261025T010000
END:STANDARD
END:VTIMEZONE
BEGIN:VEVENT
DTSTART;TZID=Europe/Berlin:20260622T143000
DTEND;TZID=Europe/Berlin:20260622T163000
DTSTAMP:20260422T023557
CREATED:20250925T152121Z
LAST-MODIFIED:20251127T171829Z
UID:10010462-1782138600-1782145800@www.ekgt.de
SUMMARY:Die gemütliche Kaffeerunde im Haus der Begegnung
DESCRIPTION:Das Haus der Begegnung lädt Sie wieder ein zur ‘Gemütlichen Kaffeerunde’\, zu gemütlichen Gesprächen bei Kaffee und Kuchen. \nFür diese Veranstaltung ist ein Fahrdienst möglich\, der Sie von zu Hause abholt und wieder zurückbringt. \nFür weitere Informationen rufen Sie bitte im Haus der Begegnung an.\nTelefon Nr.: 05241 2 22 92 15 \nOder klicken Sie bitte hier .
URL:https://www.ekgt.de/veranstaltung/die-gemuetliche-kaffeerunde-im-haus-der-begegnung/2026-06-22/
LOCATION:Haus der Begegnung\, Kirchstr. 14a\, Gütersloh\, 33330\, Deutschland
CATEGORIES:hdb-kontakt-kaffee
ORGANIZER;CN="Haus der Begegnung":MAILTO:hausderbegegnung@ekgt.de
END:VEVENT
BEGIN:VEVENT
DTSTART;TZID=Europe/Berlin:20260622T193000
DTEND;TZID=Europe/Berlin:20260622T213000
DTSTAMP:20260422T023557
CREATED:20250831T155417Z
LAST-MODIFIED:20250831T161855Z
UID:10003206-1782156600-1782163800@www.ekgt.de
SUMMARY:Hauskreis Matthäus
DESCRIPTION:Wechselnde Orte bitte erfragen. Neue Gesichter sind willkommen! \nAnsprechpartner: Annette und Christian Haase\, Tel. 0151-28734898\, christian.haase@gtelnet.net
URL:https://www.ekgt.de/veranstaltung/hauskreis-region-sued-2/2026-06-22/
LOCATION:Gütersloh an verschiedenen Orten\, Deutschland
CATEGORIES:Hauskreis Matthäus,Matthäuskirche und -gemeindezentrum
END:VEVENT
BEGIN:VEVENT
DTSTART;TZID=Europe/Berlin:20260623T093000
DTEND;TZID=Europe/Berlin:20260623T093000
DTSTAMP:20260422T023557
CREATED:20251222T154427Z
LAST-MODIFIED:20251222T154428Z
UID:10009866-1782207000-1782207000@www.ekgt.de
SUMMARY:Walking
DESCRIPTION:
URL:https://www.ekgt.de/veranstaltung/walking-2/2026-06-23/
LOCATION:Gütersloh an verschiedenen Orten\, Deutschland
CATEGORIES:Communiapp,Netzwerk 55plus
ORGANIZER;CN="Horst Jache":MAILTO:Horstjache@aol.com
END:VEVENT
BEGIN:VEVENT
DTSTART;TZID=Europe/Berlin:20260623T100000
DTEND;TZID=Europe/Berlin:20260623T100000
DTSTAMP:20260422T023557
CREATED:20250809T101217Z
LAST-MODIFIED:20250809T101256Z
UID:10009600-1782208800-1782208800@www.ekgt.de
SUMMARY:Mobilitätstraining
DESCRIPTION:
URL:https://www.ekgt.de/veranstaltung/mobilitaetstraining/2026-06-23/
LOCATION:Matthäus Gemeindezentrum\, Auf der Haar 64\, Gütersloh\, 33332\, Deutschland
CATEGORIES:Communiapp,Netzwerk 55plus
ORGANIZER;CN="Gaby Erdsiek":MAILTO:gaby.erdsiek@web.de
END:VEVENT
BEGIN:VEVENT
DTSTART;TZID=Europe/Berlin:20260623T100000
DTEND;TZID=Europe/Berlin:20260623T113000
DTSTAMP:20260422T023557
CREATED:20250615T155206Z
LAST-MODIFIED:20250615T155341Z
UID:10008383-1782208800-1782214200@www.ekgt.de
SUMMARY:Senioren-Erlebnistanz im Haus der Begegnung
DESCRIPTION:Leitung: Fr. Annette Heitland \nFür weitre Informationen bitte hier klicken.
URL:https://www.ekgt.de/veranstaltung/senioren-erlebnistanz-im-haus-der-begegnung/2026-06-23/
LOCATION:Haus der Begegnung\, Kirchstr. 14a\, Gütersloh\, 33330\, Deutschland
CATEGORIES:hdb-sport-sentanz
ORGANIZER;CN="Haus der Begegnung":MAILTO:hausderbegegnung@ekgt.de
END:VEVENT
BEGIN:VEVENT
DTSTART;TZID=Europe/Berlin:20260623T193000
DTEND;TZID=Europe/Berlin:20260623T213000
DTSTAMP:20260422T023557
CREATED:20181110T143845Z
LAST-MODIFIED:20211004T073755Z
UID:10002997-1782243000-1782250200@www.ekgt.de
SUMMARY:Matthäus-Chor\, Chorprobe
DESCRIPTION:
URL:https://www.ekgt.de/veranstaltung/matthaeus-chor-chorprobe/2026-06-23/
LOCATION:Matthäuskirche\, Auf der Haar 64\, Gütersloh\, 33332\, Deutschland
CATEGORIES:Matthäuschor
ORGANIZER;CN="P. He%C3%9Fler":MAILTO:matthaeus-chor-guetersloh@t-online.de
END:VEVENT
BEGIN:VEVENT
DTSTART;TZID=Europe/Berlin:20260624T143000
DTEND;TZID=Europe/Berlin:20260624T163000
DTSTAMP:20260422T023557
CREATED:20260413T101217Z
LAST-MODIFIED:20260413T101232Z
UID:10011894-1782311400-1782318600@www.ekgt.de
SUMMARY:Frauenhilfe Matthäus: Kaffeetrinken im Gartencenter Brockmeyer
DESCRIPTION:
URL:https://www.ekgt.de/veranstaltung/frauenhilfe-matthaeus-kaffeetrinken-im-gartencenter-brockmeyer/
LOCATION:Matthäus Gemeindezentrum\, Auf der Haar 64\, Gütersloh\, 33332\, Deutschland
CATEGORIES:Frauenhilfe Matthäus,Communiapp
END:VEVENT
BEGIN:VEVENT
DTSTART;TZID=Europe/Berlin:20260624T143000
DTEND;TZID=Europe/Berlin:20260624T163000
DTSTAMP:20260422T023557
CREATED:20250903T091500Z
LAST-MODIFIED:20250903T091543Z
UID:10010214-1782311400-1782318600@www.ekgt.de
SUMMARY:Strickcafé im Haus der Begegnung
DESCRIPTION:Leiterin: Gabriele Vorholt \nFür weitere Informationen klicken Sie bitte hier.
URL:https://www.ekgt.de/veranstaltung/strickcafe-im-haus-der-begegnung-3/2026-06-24/
LOCATION:Haus der Begegnung\, Kirchstr. 14a\, Gütersloh\, 33330\, Deutschland
CATEGORIES:hdb-kreativ-stricken
ORGANIZER;CN="Haus der Begegnung":MAILTO:hausderbegegnung@ekgt.de
END:VEVENT
BEGIN:VEVENT
DTSTART;TZID=Europe/Berlin:20260624T190000
DTEND;TZID=Europe/Berlin:20260624T190000
DTSTAMP:20260422T023557
CREATED:20240409T142312Z
LAST-MODIFIED:20240409T142943Z
UID:10005482-1782327600-1782327600@www.ekgt.de
SUMMARY:Abendgebet in der Wochenmitte in der Matthäuskirche
DESCRIPTION:In den Aktivitäten unseres Alltags und des Gemeindelebens soll es in der Mitte der Woche einen Ort der Stille und des Gebets geben. Wir bieten einen Raum\, in die Stille zu gehen\, zu hören\, zu singen und mit Leib und Seele zu beten\, um gestärkt in unseren Alltag zu gehen. \nFür das Abendgebet ist an jedem Mittwoch (außerhalb der Schulferien) die Kirche geöffnet.\nEs beginnt um 19:30 Uhr und folgt einem einfachen Ablauf von Gebet\, Liedern\, Schriftlesung\, Stille und Segen. Um 19:55 Uhr endet das Abendgebet.\nAb 19:00 Uhr ist es möglich\, in der Kirche auf Bänkchen oder Stühlen in der Stille zu sitzen. In dieser Gebetsform geht es darum\, sich mit seiner Person der Gegenwart des lebendigen Gottes hinzuhalten: einfach da sein und schweigen. Zum Sitzen in der Stille sind auch Neugierige und AnfängerInnen willkommen. \nWir geben gerne eine kleine Einführung.
URL:https://www.ekgt.de/veranstaltung/abendgebet-in-der-wochenmitte-in-der-matthaeuskirche/2026-06-24/
LOCATION:Matthäuskirche\, Auf der Haar 64\, Gütersloh\, 33332\, Deutschland
CATEGORIES:Matthäuskirche,meditative Angebote,Matthäuskirche und -gemeindezentrum
END:VEVENT
BEGIN:VEVENT
DTSTART;TZID=Europe/Berlin:20260625T100000
DTEND;TZID=Europe/Berlin:20260625T110000
DTSTAMP:20260422T023557
CREATED:20250403T145658Z
LAST-MODIFIED:20260203T102723Z
UID:10007776-1782381600-1782385200@www.ekgt.de
SUMMARY:Sitzgymnastik im Haus der Begegnung
DESCRIPTION:Leitung:Fr. Ingrid Bleßmann \nfür weitere Infos bitte hier klicken.  \nZu der Veranstaltung bieten wir einen Fahrdienst an.\nBitte melden Sie sich telefonisch im HdB unter der Telefonnummer: 05241/ 22 29 215 \n 
URL:https://www.ekgt.de/veranstaltung/sitzgymnastik-im-haus-der-begegnung-2/2026-06-25/
LOCATION:Haus der Begegnung\, Kirchstr. 14a\, Gütersloh\, 33330\, Deutschland
CATEGORIES:hdb-sport-sitz
ORGANIZER;CN="Haus der Begegnung":MAILTO:hausderbegegnung@ekgt.de
END:VEVENT
BEGIN:VEVENT
DTSTART;TZID=Europe/Berlin:20260625T164500
DTEND;TZID=Europe/Berlin:20260625T190000
DTSTAMP:20260422T023557
CREATED:20190220T201827Z
LAST-MODIFIED:20230830T123609Z
UID:10003722-1782405900-1782414000@www.ekgt.de
SUMMARY:Chorprobe Jugendchor Matthäus
DESCRIPTION:
URL:https://www.ekgt.de/veranstaltung/chorprobe-jugendchor-matthaeus/2026-06-25/
LOCATION:Matthäuskirche\, Auf der Haar 64\, Gütersloh\, 33332\, Deutschland
CATEGORIES:Matthäuskirche und -gemeindezentrum
ORGANIZER;CN="P. He%C3%9Fler":MAILTO:matthaeus-chor-guetersloh@t-online.de
END:VEVENT
BEGIN:VEVENT
DTSTART;TZID=Europe/Berlin:20260625T193000
DTEND;TZID=Europe/Berlin:20260625T210000
DTSTAMP:20260422T023557
CREATED:20190220T185133Z
LAST-MODIFIED:20241027T080839Z
UID:10003932-1782415800-1782421200@www.ekgt.de
SUMMARY:Chorprobe After8Chor
DESCRIPTION:
URL:https://www.ekgt.de/veranstaltung/chorprobe-after8chor/2026-06-25/
LOCATION:Matthäuskirche\, Auf der Haar 64\, Gütersloh\, 33332\, Deutschland
CATEGORIES:After8Chor,Matthäuskirche und -gemeindezentrum
ORGANIZER;CN="P. He%C3%9Fler":MAILTO:matthaeus-chor-guetersloh@t-online.de
END:VEVENT
BEGIN:VEVENT
DTSTART;TZID=Europe/Berlin:20260626T100000
DTEND;TZID=Europe/Berlin:20260626T100000
DTSTAMP:20260422T023557
CREATED:20250809T093802Z
LAST-MODIFIED:20250809T094352Z
UID:10009209-1782468000-1782468000@www.ekgt.de
SUMMARY:Boule
DESCRIPTION:
URL:https://www.ekgt.de/veranstaltung/boule/2026-06-26/
LOCATION:Eiswiese im Stadtpark
CATEGORIES:Netzwerk 55plus - Boule,Communiapp,Netzwerk 55plus
END:VEVENT
BEGIN:VEVENT
DTSTART;TZID=Europe/Berlin:20260626T110000
DTEND;TZID=Europe/Berlin:20260626T110000
DTSTAMP:20260422T023557
CREATED:20221101T164320Z
LAST-MODIFIED:20221101T164320Z
UID:10004812-1782471600-1782471600@www.ekgt.de
SUMMARY:Forum Walking
DESCRIPTION:Wir treffen uns an jedem Freitag am HdB zum gemeinsamen Walken. Anmeldung beim AP erforderlich!
URL:https://www.ekgt.de/veranstaltung/forum-walking/2026-06-26/
LOCATION:Gütersloh an verschiedenen Orten\, Deutschland
CATEGORIES:Forum-Sportliches,Walken,Forum Gemeinsam älter werden
END:VEVENT
BEGIN:VEVENT
DTSTART;TZID=Europe/Berlin:20260626T143000
DTEND;TZID=Europe/Berlin:20260626T170000
DTSTAMP:20260422T023557
CREATED:20250903T095144Z
LAST-MODIFIED:20251230T110910Z
UID:10010300-1782484200-1782493200@www.ekgt.de
SUMMARY:Schach und Kartenspielen im Haus der Begegnung
DESCRIPTION:Weitere Informationen zu den Terminen finden Sie\, wenn Sie hier klicken.
URL:https://www.ekgt.de/veranstaltung/schach-und-kartenspielen-im-haus-der-begegnung-4-2-2/2026-06-26/
LOCATION:Haus der Begegnung\, Kirchstr. 14a\, Gütersloh\, 33330\, Deutschland
CATEGORIES:Hdb-Spiele-Karten
ORGANIZER;CN="Haus der Begegnung":MAILTO:hausderbegegnung@ekgt.de
END:VEVENT
BEGIN:VEVENT
DTSTART;TZID=Europe/Berlin:20260626T163000
DTEND;TZID=Europe/Berlin:20260626T190000
DTSTAMP:20260422T023557
CREATED:20190130T153916Z
LAST-MODIFIED:20230118T105621Z
UID:10003416-1782491400-1782500400@www.ekgt.de
SUMMARY:Jungbläserausbildung Posaunenchor Mitte
DESCRIPTION:Information und Anmeldung bei Herrn Martin Stork\, T. 73165 \n 
URL:https://www.ekgt.de/veranstaltung/jungblaeserausbildung-posaunnchor-mitte/2026-06-26/
LOCATION:Haus der Begegnung\, Kirchstr. 14a\, Gütersloh\, 33330\, Deutschland
CATEGORIES:Haus der Begegnung - VA der Apostelkirche,Jungbläser,Apostelkirche,Posaunenchor Stadtmitte,Apostelkirche,Veranstaltungen,Zentral
ATTACH;FMTTYPE=image/jpeg:https://www.ekgt.de/inhalt/uploads/2018/09/AdobeStock_36770901-e1553776160574.jpeg
ORGANIZER;CN="M. Stork":MAILTO:martin.stork@t-online.de
END:VEVENT
BEGIN:VEVENT
DTSTART;TZID=Europe/Berlin:20260626T200000
DTEND;TZID=Europe/Berlin:20260626T220000
DTSTAMP:20260422T023557
CREATED:20180817T093815Z
LAST-MODIFIED:20200924T152552Z
UID:10002789-1782504000-1782511200@www.ekgt.de
SUMMARY:Posaunenchorprobe
DESCRIPTION:Außerhalb der Sommerferien immer freitags von 20.00-22.00 Uhr im Haus der Begegnung (Kirchstraße 14a). \nDie Leitung der Ausbildung liegt in den Händen unseres Chorleiters Martin Stork. Der Unterricht (Gruppen- oder Einzelunterricht) findet wöchentlich statt. \nAnmeldung hier! 
URL:https://www.ekgt.de/veranstaltung/posaunenchorprobe/2026-06-26/
LOCATION:Haus der Begegnung\, Kirchstr. 14a\, Gütersloh\, 33330\, Deutschland
CATEGORIES:Haus der Begegnung - VA der Apostelkirche,Apostelkirche,Posaunenchor Stadtmitte,Apostelkirche,Veranstaltungen,Zentral
ATTACH;FMTTYPE=image/jpeg:https://www.ekgt.de/inhalt/uploads/2018/08/posaunenchor.jpg
END:VEVENT
BEGIN:VEVENT
DTSTART;TZID=Europe/Berlin:20260627T120000
DTEND;TZID=Europe/Berlin:20260627T120000
DTSTAMP:20260422T023557
CREATED:20251022T070749Z
LAST-MODIFIED:20251022T070834Z
UID:10008487-1782561600-1782561600@www.ekgt.de
SUMMARY:ökumenisches Friedensgebet in der Martin-Luther-Kirche
DESCRIPTION:Jeden Samstag finden um 12.00 Uhr Ökumenische Friedensgebete in der Martin-Luther-Kirche statt. \nDer Krieg in der Ukraine dauert nun schon fast 4 Jahre. Haben die immer wieder gesichteten Drohnen etwas damit zu tun?\nSeit zwei Jahren beobachten wir mit Sorge die Entwicklungen in Israel-Palästina. Was wird nach dem brüchigen Waffenstillstand?\nDas sind nur zwei der unfriedlichen Situationen weltweit.\nWir können Friedensbemühungen und Hilfeleistungen ins Gebet nehmen:\nIn der Martin-Luther-Kirche finden jeden Samstag um 12 Uhr kurze Friedensgebete (15 Min.) statt\, die von Menschen unterschiedlicher Konfessionen vorbereitet werden. Die Friedensdekade in diesem Jahr fordert uns freundlich und eindringlich auf\, die Hoffnung nicht aufzugeben und den Frieden zu wecken. \nBeteiligen Sie sich an unserem als Kirchen ureigensten Anliegen!
URL:https://www.ekgt.de/veranstaltung/oekumenisches-friedensgebet-in-der-martin-luther-kirche-2/2026-06-27/
LOCATION:Martin-Luther-Kirche\, Deutschland
CATEGORIES:Communiapp,Martin-Luther-Kirche
END:VEVENT
END:VCALENDAR