BEGIN:VCALENDAR
VERSION:2.0
PRODID:-//Evangelische Kirchengemeinde Gütersloh - ECPv6.5.0.1//NONSGML v1.0//EN
CALSCALE:GREGORIAN
METHOD:PUBLISH
X-ORIGINAL-URL:https://www.ekgt.de
X-WR-CALDESC:Veranstaltungen für Evangelische Kirchengemeinde Gütersloh
REFRESH-INTERVAL;VALUE=DURATION:PT1H
X-Robots-Tag:noindex
X-PUBLISHED-TTL:PT1H
BEGIN:VTIMEZONE
TZID:Europe/Berlin
BEGIN:DAYLIGHT
TZOFFSETFROM:+0100
TZOFFSETTO:+0200
TZNAME:CEST
DTSTART:20260329T010000
END:DAYLIGHT
BEGIN:STANDARD
TZOFFSETFROM:+0200
TZOFFSETTO:+0100
TZNAME:CET
DTSTART:20261025T010000
END:STANDARD
END:VTIMEZONE
BEGIN:VEVENT
DTSTART;TZID=Europe/Berlin:20260330T100000
DTEND;TZID=Europe/Berlin:20260330T110000
DTSTAMP:20260421T141716
CREATED:20260211T151138Z
LAST-MODIFIED:20260211T151138Z
UID:10011662-1774864800-1774868400@www.ekgt.de
SUMMARY:Bewegtes Gedächtnistraining - Kurs im Haus der Begegnung
DESCRIPTION:Herzliche Einladung zu einem neuen Kurs mit 10 Terminen: \nBewegtes Gedächtnistraining – mit Petra Rohde. \nBeginn am Montag\, 16.03.2026 \nKosten: 50 EUR\nAnmeldung ab sofort im Büro des HdB- 22292-15 oder per Mail: hausderbegegnung@ekgt.de.
URL:https://www.ekgt.de/veranstaltung/bewegtes-gedaechtnistraining-kurs-im-haus-der-begegnung-2/2026-03-30/
LOCATION:Haus der Begegnung\, Kirchstr. 14a\, Gütersloh\, 33330\, Deutschland
CATEGORIES:hdb-sport-gedacht
ORGANIZER;CN="Haus der Begegnung":MAILTO:hausderbegegnung@ekgt.de
END:VEVENT
BEGIN:VEVENT
DTSTART;TZID=Europe/Berlin:20260330T143000
DTEND;TZID=Europe/Berlin:20260330T163000
DTSTAMP:20260421T141716
CREATED:20250925T152121Z
LAST-MODIFIED:20251127T171829Z
UID:10010450-1774881000-1774888200@www.ekgt.de
SUMMARY:Die gemütliche Kaffeerunde im Haus der Begegnung
DESCRIPTION:Das Haus der Begegnung lädt Sie wieder ein zur ‘Gemütlichen Kaffeerunde’\, zu gemütlichen Gesprächen bei Kaffee und Kuchen. \nFür diese Veranstaltung ist ein Fahrdienst möglich\, der Sie von zu Hause abholt und wieder zurückbringt. \nFür weitere Informationen rufen Sie bitte im Haus der Begegnung an.\nTelefon Nr.: 05241 2 22 92 15 \nOder klicken Sie bitte hier .
URL:https://www.ekgt.de/veranstaltung/die-gemuetliche-kaffeerunde-im-haus-der-begegnung/2026-03-30/
LOCATION:Haus der Begegnung\, Kirchstr. 14a\, Gütersloh\, 33330\, Deutschland
CATEGORIES:hdb-kontakt-kaffee
ORGANIZER;CN="Haus der Begegnung":MAILTO:hausderbegegnung@ekgt.de
END:VEVENT
BEGIN:VEVENT
DTSTART;TZID=Europe/Berlin:20260330T180000
DTEND;TZID=Europe/Berlin:20260330T193000
DTSTAMP:20260421T141716
CREATED:20260211T151430Z
LAST-MODIFIED:20260211T151430Z
UID:10011672-1774893600-1774899000@www.ekgt.de
SUMMARY:Hatha-Yoga im Haus der Begegnung
DESCRIPTION:Leitung: Annett Schäfers \nBitte mitbringen:\nEine Matte\, stabiles Sitzkissen\, bequeme Kleidung\,\neine Decke und nach Möglichkeit 2 Blöcke und einen Gurt \n  \n 
URL:https://www.ekgt.de/veranstaltung/hatha-yoga-im-haus-der-begegnung-2/2026-03-30/
LOCATION:Haus der Begegnung\, Kirchstr. 14a\, Gütersloh\, 33330\, Deutschland
CATEGORIES:HdB-Sport-Yoga
ORGANIZER;CN="Haus der Begegnung":MAILTO:hausderbegegnung@ekgt.de
END:VEVENT
BEGIN:VEVENT
DTSTART;TZID=Europe/Berlin:20260330T193000
DTEND;TZID=Europe/Berlin:20260330T213000
DTSTAMP:20260421T141716
CREATED:20250831T155417Z
LAST-MODIFIED:20250831T161855Z
UID:10003194-1774899000-1774906200@www.ekgt.de
SUMMARY:Hauskreis Matthäus
DESCRIPTION:Wechselnde Orte bitte erfragen. Neue Gesichter sind willkommen! \nAnsprechpartner: Annette und Christian Haase\, Tel. 0151-28734898\, christian.haase@gtelnet.net
URL:https://www.ekgt.de/veranstaltung/hauskreis-region-sued-2/2026-03-30/
LOCATION:Gütersloh an verschiedenen Orten\, Deutschland
CATEGORIES:Hauskreis Matthäus,Matthäuskirche und -gemeindezentrum
END:VEVENT
BEGIN:VEVENT
DTSTART;TZID=Europe/Berlin:20260331T093000
DTEND;TZID=Europe/Berlin:20260331T093000
DTSTAMP:20260421T141716
CREATED:20251222T154427Z
LAST-MODIFIED:20251222T154428Z
UID:10009854-1774949400-1774949400@www.ekgt.de
SUMMARY:Walking
DESCRIPTION:
URL:https://www.ekgt.de/veranstaltung/walking-2/2026-03-31/
LOCATION:Gütersloh an verschiedenen Orten\, Deutschland
CATEGORIES:Communiapp,Netzwerk 55plus
ORGANIZER;CN="Horst Jache":MAILTO:Horstjache@aol.com
END:VEVENT
BEGIN:VEVENT
DTSTART;TZID=Europe/Berlin:20260331T100000
DTEND;TZID=Europe/Berlin:20260331T100000
DTSTAMP:20260421T141716
CREATED:20250809T101217Z
LAST-MODIFIED:20250809T101256Z
UID:10009588-1774951200-1774951200@www.ekgt.de
SUMMARY:Mobilitätstraining
DESCRIPTION:
URL:https://www.ekgt.de/veranstaltung/mobilitaetstraining/2026-03-31/
LOCATION:Matthäus Gemeindezentrum\, Auf der Haar 64\, Gütersloh\, 33332\, Deutschland
CATEGORIES:Communiapp,Netzwerk 55plus
ORGANIZER;CN="Gaby Erdsiek":MAILTO:gaby.erdsiek@web.de
END:VEVENT
BEGIN:VEVENT
DTSTART;TZID=Europe/Berlin:20260331T100000
DTEND;TZID=Europe/Berlin:20260331T113000
DTSTAMP:20260421T141716
CREATED:20250615T155206Z
LAST-MODIFIED:20250615T155341Z
UID:10008371-1774951200-1774956600@www.ekgt.de
SUMMARY:Senioren-Erlebnistanz im Haus der Begegnung
DESCRIPTION:Leitung: Fr. Annette Heitland \nFür weitre Informationen bitte hier klicken.
URL:https://www.ekgt.de/veranstaltung/senioren-erlebnistanz-im-haus-der-begegnung/2026-03-31/
LOCATION:Haus der Begegnung\, Kirchstr. 14a\, Gütersloh\, 33330\, Deutschland
CATEGORIES:hdb-sport-sentanz
ORGANIZER;CN="Haus der Begegnung":MAILTO:hausderbegegnung@ekgt.de
END:VEVENT
BEGIN:VEVENT
DTSTART;TZID=Europe/Berlin:20260331T130000
DTEND;TZID=Europe/Berlin:20260331T163000
DTSTAMP:20260421T141716
CREATED:20260127T092314Z
LAST-MODIFIED:20260318T142048Z
UID:10011616-1774962000-1774974600@www.ekgt.de
SUMMARY:Fahrradtour (Gruppe E-Bikes) im Forum 'Gemeinsam älter werden'
DESCRIPTION:Erste Fahrt vom Spexarder Bauernhaus nach Kaunitz – Sende – Sürenheide und zurück- \nTreffpunkt: Spexarder Bauernhaus\, \nPause im Café Schuhmacher\, Kaunitz \nAnmeldung bitte bei Beate Pielhoff\nMail: bp1955@web.de \nWeitere Infos und das Jahresprogramm finden Sie\, wenn Sie hier klicken. \n  \n  \n 
URL:https://www.ekgt.de/veranstaltung/fahrradtour-gruppe-e-bikes-im-forum-gemeinsam-aelter-werden-saisonbeginn-2/
LOCATION:Gütersloh an verschiedenen Orten\, Deutschland
CATEGORIES:Radfahren
ORGANIZER;CN="Haus der Begegnung":MAILTO:hausderbegegnung@ekgt.de
END:VEVENT
BEGIN:VEVENT
DTSTART;TZID=Europe/Berlin:20260331T193000
DTEND;TZID=Europe/Berlin:20260331T213000
DTSTAMP:20260421T141716
CREATED:20181110T143845Z
LAST-MODIFIED:20211004T073755Z
UID:10002985-1774985400-1774992600@www.ekgt.de
SUMMARY:Matthäus-Chor\, Chorprobe
DESCRIPTION:
URL:https://www.ekgt.de/veranstaltung/matthaeus-chor-chorprobe/2026-03-31/
LOCATION:Matthäuskirche\, Auf der Haar 64\, Gütersloh\, 33332\, Deutschland
CATEGORIES:Matthäuschor
ORGANIZER;CN="P. He%C3%9Fler":MAILTO:matthaeus-chor-guetersloh@t-online.de
END:VEVENT
BEGIN:VEVENT
DTSTART;TZID=Europe/Berlin:20260401T143000
DTEND;TZID=Europe/Berlin:20260401T163000
DTSTAMP:20260421T141716
CREATED:20250903T091500Z
LAST-MODIFIED:20250903T091543Z
UID:10010202-1775053800-1775061000@www.ekgt.de
SUMMARY:Strickcafé im Haus der Begegnung
DESCRIPTION:Leiterin: Gabriele Vorholt \nFür weitere Informationen klicken Sie bitte hier.
URL:https://www.ekgt.de/veranstaltung/strickcafe-im-haus-der-begegnung-3/2026-04-01/
LOCATION:Haus der Begegnung\, Kirchstr. 14a\, Gütersloh\, 33330\, Deutschland
CATEGORIES:hdb-kreativ-stricken
ORGANIZER;CN="Haus der Begegnung":MAILTO:hausderbegegnung@ekgt.de
END:VEVENT
BEGIN:VEVENT
DTSTART;TZID=Europe/Berlin:20260401T190000
DTEND;TZID=Europe/Berlin:20260401T190000
DTSTAMP:20260421T141716
CREATED:20240409T142312Z
LAST-MODIFIED:20240409T142943Z
UID:10005470-1775070000-1775070000@www.ekgt.de
SUMMARY:Abendgebet in der Wochenmitte in der Matthäuskirche
DESCRIPTION:In den Aktivitäten unseres Alltags und des Gemeindelebens soll es in der Mitte der Woche einen Ort der Stille und des Gebets geben. Wir bieten einen Raum\, in die Stille zu gehen\, zu hören\, zu singen und mit Leib und Seele zu beten\, um gestärkt in unseren Alltag zu gehen. \nFür das Abendgebet ist an jedem Mittwoch (außerhalb der Schulferien) die Kirche geöffnet.\nEs beginnt um 19:30 Uhr und folgt einem einfachen Ablauf von Gebet\, Liedern\, Schriftlesung\, Stille und Segen. Um 19:55 Uhr endet das Abendgebet.\nAb 19:00 Uhr ist es möglich\, in der Kirche auf Bänkchen oder Stühlen in der Stille zu sitzen. In dieser Gebetsform geht es darum\, sich mit seiner Person der Gegenwart des lebendigen Gottes hinzuhalten: einfach da sein und schweigen. Zum Sitzen in der Stille sind auch Neugierige und AnfängerInnen willkommen. \nWir geben gerne eine kleine Einführung.
URL:https://www.ekgt.de/veranstaltung/abendgebet-in-der-wochenmitte-in-der-matthaeuskirche/2026-04-01/
LOCATION:Matthäuskirche\, Auf der Haar 64\, Gütersloh\, 33332\, Deutschland
CATEGORIES:Matthäuskirche,meditative Angebote,Matthäuskirche und -gemeindezentrum
END:VEVENT
BEGIN:VEVENT
DTSTART;TZID=Europe/Berlin:20260401T190000
DTEND;TZID=Europe/Berlin:20260401T210000
DTSTAMP:20260421T141716
CREATED:20250903T092055Z
LAST-MODIFIED:20250903T092055Z
UID:10010245-1775070000-1775077200@www.ekgt.de
SUMMARY:"Laib und Seele" - Bibelteilen im Haus der Begegnung
DESCRIPTION:Gesprächskreis von und für Frauen \nLeitung: Fr. Birgit Hötte-Janke \nWeitere Informationen bekommen Sie\, wenn Sie hier klicken.
URL:https://www.ekgt.de/veranstaltung/laib-und-seele-bibelteilen-im-haus-der-begegnung/2026-04-01/
LOCATION:Haus der Begegnung\, Kirchstr. 14a\, Gütersloh\, 33330\, Deutschland
CATEGORIES:HdB-theo-laib
ORGANIZER;CN="Haus der Begegnung":MAILTO:hausderbegegnung@ekgt.de
END:VEVENT
BEGIN:VEVENT
DTSTART;TZID=Europe/Berlin:20260402T100000
DTEND;TZID=Europe/Berlin:20260402T110000
DTSTAMP:20260421T141716
CREATED:20250403T145658Z
LAST-MODIFIED:20260203T102723Z
UID:10007764-1775124000-1775127600@www.ekgt.de
SUMMARY:Sitzgymnastik im Haus der Begegnung
DESCRIPTION:Leitung:Fr. Ingrid Bleßmann \nfür weitere Infos bitte hier klicken.  \nZu der Veranstaltung bieten wir einen Fahrdienst an.\nBitte melden Sie sich telefonisch im HdB unter der Telefonnummer: 05241/ 22 29 215 \n 
URL:https://www.ekgt.de/veranstaltung/sitzgymnastik-im-haus-der-begegnung-2/2026-04-02/
LOCATION:Haus der Begegnung\, Kirchstr. 14a\, Gütersloh\, 33330\, Deutschland
CATEGORIES:hdb-sport-sitz
ORGANIZER;CN="Haus der Begegnung":MAILTO:hausderbegegnung@ekgt.de
END:VEVENT
BEGIN:VEVENT
DTSTART;TZID=Europe/Berlin:20260402T143000
DTEND;TZID=Europe/Berlin:20260402T163000
DTSTAMP:20260421T141716
CREATED:20260331T162042Z
LAST-MODIFIED:20260331T162042Z
UID:10011851-1775140200-1775147400@www.ekgt.de
SUMMARY:Bingo im Haus der Begegnung
DESCRIPTION:Reagieren und Konzentrieren – spielerisch geübt\nLeitung: Fr. Elisabeth Kleinschmidt \n  \nWeitere Informationen finden Sie\, wenn Sie hier klicken.
URL:https://www.ekgt.de/veranstaltung/bingo-im-haus-der-begegnung-2/
LOCATION:Haus der Begegnung\, Kirchstr. 14a\, Gütersloh\, 33330\, Deutschland
CATEGORIES:HdB-Spiele-Bingo
ORGANIZER;CN="Haus der Begegnung":MAILTO:hausderbegegnung@ekgt.de
END:VEVENT
BEGIN:VEVENT
DTSTART;TZID=Europe/Berlin:20260402T150000
DTEND;TZID=Europe/Berlin:20260402T160000
DTSTAMP:20260421T141716
CREATED:20260211T151752Z
LAST-MODIFIED:20260211T151752Z
UID:10011683-1775142000-1775145600@www.ekgt.de
SUMMARY:Seniorenfitness im Haus der Begegnung
DESCRIPTION:Leitung: Fr. Straube \nFür weitere Infos bitte hier klicken.
URL:https://www.ekgt.de/veranstaltung/seniorenfitness-im-haus-der-begegnung-2/2026-04-02/
LOCATION:Haus der Begegnung\, Kirchstr. 14a\, Gütersloh\, 33330\, Deutschland
CATEGORIES:hdb-sport-gym
ORGANIZER;CN="Haus der Begegnung":MAILTO:hausderbegegnung@ekgt.de
END:VEVENT
BEGIN:VEVENT
DTSTART;TZID=Europe/Berlin:20260402T164500
DTEND;TZID=Europe/Berlin:20260402T190000
DTSTAMP:20260421T141716
CREATED:20190220T201827Z
LAST-MODIFIED:20230830T123609Z
UID:10003710-1775148300-1775156400@www.ekgt.de
SUMMARY:Chorprobe Jugendchor Matthäus
DESCRIPTION:
URL:https://www.ekgt.de/veranstaltung/chorprobe-jugendchor-matthaeus/2026-04-02/
LOCATION:Matthäuskirche\, Auf der Haar 64\, Gütersloh\, 33332\, Deutschland
CATEGORIES:Matthäuskirche und -gemeindezentrum
ORGANIZER;CN="P. He%C3%9Fler":MAILTO:matthaeus-chor-guetersloh@t-online.de
END:VEVENT
BEGIN:VEVENT
DTSTART;TZID=Europe/Berlin:20260402T190000
DTEND;TZID=Europe/Berlin:20260402T190000
DTSTAMP:20260421T141716
CREATED:20260301T195956Z
LAST-MODIFIED:20260301T200442Z
UID:10011746-1775156400-1775156400@www.ekgt.de
SUMMARY:Feierabendmahl am Gründonnerstag im Haus der Begegnung
DESCRIPTION:
URL:https://www.ekgt.de/veranstaltung/feierabendmahl-am-gruendonnerstag-im-haus-der-begegnung/
LOCATION:Haus der Begegnung\, Kirchstr. 14a\, Gütersloh\, 33330\, Deutschland
CATEGORIES:Communiapp,Gottesdienste,Haus der Begegnung
END:VEVENT
BEGIN:VEVENT
DTSTART;TZID=Europe/Berlin:20260402T190000
DTEND;TZID=Europe/Berlin:20260402T190000
DTSTAMP:20260421T141716
CREATED:20260301T195736Z
LAST-MODIFIED:20260301T200358Z
UID:10011745-1775156400-1775156400@www.ekgt.de
SUMMARY:Tischabendmahl am Gründonnerstag in der Erlöserkirche
DESCRIPTION:
URL:https://www.ekgt.de/veranstaltung/tischabendmahl-am-gruendonnerstag-in-der-erloeserkirche/
LOCATION:Erlöserkirche\, An der Erlöserkapelle 7\, Gütersloh\, 33332\, Deutschland
CATEGORIES:Communiapp,Erlöserkirche,Gottesdienste
END:VEVENT
BEGIN:VEVENT
DTSTART;TZID=Europe/Berlin:20260402T193000
DTEND;TZID=Europe/Berlin:20260402T210000
DTSTAMP:20260421T141716
CREATED:20190220T185133Z
LAST-MODIFIED:20241027T080839Z
UID:10003920-1775158200-1775163600@www.ekgt.de
SUMMARY:Chorprobe After8Chor
DESCRIPTION:
URL:https://www.ekgt.de/veranstaltung/chorprobe-after8chor/2026-04-02/
LOCATION:Matthäuskirche\, Auf der Haar 64\, Gütersloh\, 33332\, Deutschland
CATEGORIES:After8Chor,Matthäuskirche und -gemeindezentrum
ORGANIZER;CN="P. He%C3%9Fler":MAILTO:matthaeus-chor-guetersloh@t-online.de
END:VEVENT
BEGIN:VEVENT
DTSTART;TZID=Europe/Berlin:20260403T100000
DTEND;TZID=Europe/Berlin:20260403T100000
DTSTAMP:20260421T141716
CREATED:20250809T093802Z
LAST-MODIFIED:20250809T094352Z
UID:10009197-1775210400-1775210400@www.ekgt.de
SUMMARY:Boule
DESCRIPTION:
URL:https://www.ekgt.de/veranstaltung/boule/2026-04-03/
LOCATION:Eiswiese im Stadtpark
CATEGORIES:Netzwerk 55plus - Boule,Communiapp,Netzwerk 55plus
END:VEVENT
BEGIN:VEVENT
DTSTART;TZID=Europe/Berlin:20260403T103000
DTEND;TZID=Europe/Berlin:20260403T103000
DTSTAMP:20260421T141716
CREATED:20260301T200742Z
LAST-MODIFIED:20260323T110801Z
UID:10011748-1775212200-1775212200@www.ekgt.de
SUMMARY:Gottesdienst mit Abendmahl am Karfreitag mit dem Matthäus-Chor in der Matthäuskirche
DESCRIPTION:
URL:https://www.ekgt.de/veranstaltung/gottesdienst-mit-abendmahl-am-karfreitag-in-der-matthaeuskirche/
LOCATION:Matthäuskirche\, Auf der Haar 64\, Gütersloh\, 33332\, Deutschland
CATEGORIES:Gottesdienste Matthäus,Communiapp,Gottesdienste Matthäus,Matthäuschor,Gottesdienste
END:VEVENT
BEGIN:VEVENT
DTSTART;TZID=Europe/Berlin:20260403T103000
DTEND;TZID=Europe/Berlin:20260403T103000
DTSTAMP:20260421T141716
CREATED:20260301T200226Z
LAST-MODIFIED:20260301T200241Z
UID:10011747-1775212200-1775212200@www.ekgt.de
SUMMARY:Gottesdienst mit Abendmahl am Karfreitag in der Martin-Luther-Kirche
DESCRIPTION:
URL:https://www.ekgt.de/veranstaltung/gottesdienst-mit-abendmahl-am-karfreitag-in-der-martin-luther-kirche/
LOCATION:Martin-Luther-Kirche\, Deutschland
CATEGORIES:Communiapp,Gottesdienste,Martin-Luther-Kirche
END:VEVENT
BEGIN:VEVENT
DTSTART;TZID=Europe/Berlin:20260403T110000
DTEND;TZID=Europe/Berlin:20260403T110000
DTSTAMP:20260421T141716
CREATED:20260301T200952Z
LAST-MODIFIED:20260323T111002Z
UID:10011749-1775214000-1775214000@www.ekgt.de
SUMMARY:Gottesdienst mit Abendmahl am Karfreitag in der Erlöserkirche
DESCRIPTION:musikalische Gestaltung: Matthias Nagel
URL:https://www.ekgt.de/veranstaltung/gottesdienst-mit-abendmahl-am-karfreitag-in-der-erloeserkirche/
LOCATION:Erlöserkirche\, An der Erlöserkapelle 7\, Gütersloh\, 33332\, Deutschland
CATEGORIES:Communiapp,Erlöserkirche,Gottesdienste
END:VEVENT
BEGIN:VEVENT
DTSTART;TZID=Europe/Berlin:20260403T110000
DTEND;TZID=Europe/Berlin:20260403T110000
DTSTAMP:20260421T141716
CREATED:20221101T164320Z
LAST-MODIFIED:20221101T164320Z
UID:10004800-1775214000-1775214000@www.ekgt.de
SUMMARY:Forum Walking
DESCRIPTION:Wir treffen uns an jedem Freitag am HdB zum gemeinsamen Walken. Anmeldung beim AP erforderlich!
URL:https://www.ekgt.de/veranstaltung/forum-walking/2026-04-03/
LOCATION:Gütersloh an verschiedenen Orten\, Deutschland
CATEGORIES:Forum-Sportliches,Walken,Forum Gemeinsam älter werden
END:VEVENT
BEGIN:VEVENT
DTSTART;TZID=Europe/Berlin:20260403T163000
DTEND;TZID=Europe/Berlin:20260403T190000
DTSTAMP:20260421T141716
CREATED:20190130T153916Z
LAST-MODIFIED:20230118T105621Z
UID:10003404-1775233800-1775242800@www.ekgt.de
SUMMARY:Jungbläserausbildung Posaunenchor Mitte
DESCRIPTION:Information und Anmeldung bei Herrn Martin Stork\, T. 73165 \n 
URL:https://www.ekgt.de/veranstaltung/jungblaeserausbildung-posaunnchor-mitte/2026-04-03/
LOCATION:Haus der Begegnung\, Kirchstr. 14a\, Gütersloh\, 33330\, Deutschland
CATEGORIES:Haus der Begegnung - VA der Apostelkirche,Jungbläser,Apostelkirche,Posaunenchor Stadtmitte,Apostelkirche,Veranstaltungen,Zentral
ATTACH;FMTTYPE=image/jpeg:https://www.ekgt.de/inhalt/uploads/2018/09/AdobeStock_36770901-e1553776160574.jpeg
ORGANIZER;CN="M. Stork":MAILTO:martin.stork@t-online.de
END:VEVENT
BEGIN:VEVENT
DTSTART;TZID=Europe/Berlin:20260403T200000
DTEND;TZID=Europe/Berlin:20260403T220000
DTSTAMP:20260421T141716
CREATED:20180817T093815Z
LAST-MODIFIED:20200924T152552Z
UID:10002777-1775246400-1775253600@www.ekgt.de
SUMMARY:Posaunenchorprobe
DESCRIPTION:Außerhalb der Sommerferien immer freitags von 20.00-22.00 Uhr im Haus der Begegnung (Kirchstraße 14a). \nDie Leitung der Ausbildung liegt in den Händen unseres Chorleiters Martin Stork. Der Unterricht (Gruppen- oder Einzelunterricht) findet wöchentlich statt. \nAnmeldung hier! 
URL:https://www.ekgt.de/veranstaltung/posaunenchorprobe/2026-04-03/
LOCATION:Haus der Begegnung\, Kirchstr. 14a\, Gütersloh\, 33330\, Deutschland
CATEGORIES:Haus der Begegnung - VA der Apostelkirche,Apostelkirche,Posaunenchor Stadtmitte,Apostelkirche,Veranstaltungen,Zentral
ATTACH;FMTTYPE=image/jpeg:https://www.ekgt.de/inhalt/uploads/2018/08/posaunenchor.jpg
END:VEVENT
BEGIN:VEVENT
DTSTART;TZID=Europe/Berlin:20260404T100000
DTEND;TZID=Europe/Berlin:20260404T123000
DTSTAMP:20260421T141716
CREATED:20251221T163736Z
LAST-MODIFIED:20251221T163804Z
UID:10011205-1775296800-1775305800@www.ekgt.de
SUMMARY:Windspiele - einfach und schnell gemacht
DESCRIPTION:Eine Veranstaltung des Netzwerks 55plus – Origami – im Matthäus Gemeindehaus
URL:https://www.ekgt.de/veranstaltung/windspiele-einfach-und-schnell-gemacht/
LOCATION:Matthäus Gemeindezentrum\, Auf der Haar 64\, Gütersloh\, 33332\, Deutschland
CATEGORIES:Communiapp,Netzwerk 55plus
END:VEVENT
BEGIN:VEVENT
DTSTART;TZID=Europe/Berlin:20260404T120000
DTEND;TZID=Europe/Berlin:20260404T120000
DTSTAMP:20260421T141716
CREATED:20251022T070749Z
LAST-MODIFIED:20251022T070834Z
UID:10008475-1775304000-1775304000@www.ekgt.de
SUMMARY:ökumenisches Friedensgebet in der Martin-Luther-Kirche
DESCRIPTION:Jeden Samstag finden um 12.00 Uhr Ökumenische Friedensgebete in der Martin-Luther-Kirche statt. \nDer Krieg in der Ukraine dauert nun schon fast 4 Jahre. Haben die immer wieder gesichteten Drohnen etwas damit zu tun?\nSeit zwei Jahren beobachten wir mit Sorge die Entwicklungen in Israel-Palästina. Was wird nach dem brüchigen Waffenstillstand?\nDas sind nur zwei der unfriedlichen Situationen weltweit.\nWir können Friedensbemühungen und Hilfeleistungen ins Gebet nehmen:\nIn der Martin-Luther-Kirche finden jeden Samstag um 12 Uhr kurze Friedensgebete (15 Min.) statt\, die von Menschen unterschiedlicher Konfessionen vorbereitet werden. Die Friedensdekade in diesem Jahr fordert uns freundlich und eindringlich auf\, die Hoffnung nicht aufzugeben und den Frieden zu wecken. \nBeteiligen Sie sich an unserem als Kirchen ureigensten Anliegen!
URL:https://www.ekgt.de/veranstaltung/oekumenisches-friedensgebet-in-der-martin-luther-kirche-2/2026-04-04/
LOCATION:Martin-Luther-Kirche\, Deutschland
CATEGORIES:Communiapp,Martin-Luther-Kirche
END:VEVENT
BEGIN:VEVENT
DTSTART;TZID=Europe/Berlin:20260404T150000
DTEND;TZID=Europe/Berlin:20260404T150000
DTSTAMP:20260421T141716
CREATED:20260331T160250Z
LAST-MODIFIED:20260331T160250Z
UID:10011847-1775314800-1775314800@www.ekgt.de
SUMMARY:Origami: Origami-Windspiele für drinnen und draußen
DESCRIPTION:Leitung: Marion Luegg-Papenbreer \nOrigami-Windspiele für drinnen und draußen\, sie drehen sich leicht im Wind und begrüßen den Frühling.\nIn gemütlicher Atmosphäre wird Schritt für Schritt gezeigt\, wie aus einfachen Papierbögen diese filigranen Kunstwerke entstehen. \nDer Kurs richtet sich an alle\, die Freude am kreativen Gestalten haben oder eine neue Technik kennenlernen möchten.\nVorkenntnisse werden nicht benötigt\, und Materialien werden bereitgestellt. In zwei Stunden wird Raum geboten\, Neues auszuprobieren und sich inspirieren zu lassen. \nAnmeldung im Büro des Hauses der Begegnung unter GT 2229215. \n 
URL:https://www.ekgt.de/veranstaltung/origami-origami-windspiele-fuer-drinnen-und-draussen/
LOCATION:Haus der Begegnung\, Kirchstr. 14a\, Gütersloh\, 33330\, Deutschland
CATEGORIES:hdb-kreativ-basteln
ORGANIZER;CN="Haus der Begegnung":MAILTO:hausderbegegnung@ekgt.de
END:VEVENT
BEGIN:VEVENT
DTSTART;TZID=Europe/Berlin:20260404T230000
DTEND;TZID=Europe/Berlin:20260404T230000
DTSTAMP:20260421T141716
CREATED:20260302T092023Z
LAST-MODIFIED:20260302T093756Z
UID:10011750-1775343600-1775343600@www.ekgt.de
SUMMARY:Osternacht mit der CVJM Band in der Martin-Luther-Kirche
DESCRIPTION:
URL:https://www.ekgt.de/veranstaltung/osternacht-mit-der-cvjm-band/
LOCATION:Martin-Luther-Kirche\, Deutschland
CATEGORIES:Communiapp,Gottesdienste,Martin-Luther-Kirche
END:VEVENT
END:VCALENDAR