BEGIN:VCALENDAR
VERSION:2.0
PRODID:-//Evangelische Kirchengemeinde Gütersloh - ECPv6.5.0.1//NONSGML v1.0//EN
CALSCALE:GREGORIAN
METHOD:PUBLISH
X-ORIGINAL-URL:https://www.ekgt.de
X-WR-CALDESC:Veranstaltungen für Evangelische Kirchengemeinde Gütersloh
REFRESH-INTERVAL;VALUE=DURATION:PT1H
X-Robots-Tag:noindex
X-PUBLISHED-TTL:PT1H
BEGIN:VTIMEZONE
TZID:Europe/Berlin
BEGIN:DAYLIGHT
TZOFFSETFROM:+0100
TZOFFSETTO:+0200
TZNAME:CEST
DTSTART:20270328T010000
END:DAYLIGHT
BEGIN:STANDARD
TZOFFSETFROM:+0200
TZOFFSETTO:+0100
TZNAME:CET
DTSTART:20271031T010000
END:STANDARD
END:VTIMEZONE
BEGIN:VEVENT
DTSTART;TZID=Europe/Berlin:20270702T100000
DTEND;TZID=Europe/Berlin:20270702T100000
DTSTAMP:20260425T152157
CREATED:20250809T093802Z
LAST-MODIFIED:20250809T094352Z
UID:10009262-1814522400-1814522400@www.ekgt.de
SUMMARY:Boule
DESCRIPTION:
URL:https://www.ekgt.de/veranstaltung/boule/2027-07-02/
LOCATION:Eiswiese im Stadtpark
CATEGORIES:Netzwerk 55plus - Boule,Communiapp,Netzwerk 55plus
END:VEVENT
BEGIN:VEVENT
DTSTART;TZID=Europe/Berlin:20270702T110000
DTEND;TZID=Europe/Berlin:20270702T110000
DTSTAMP:20260425T152157
CREATED:20221101T164320Z
LAST-MODIFIED:20221101T164320Z
UID:10004865-1814526000-1814526000@www.ekgt.de
SUMMARY:Forum Walking
DESCRIPTION:Wir treffen uns an jedem Freitag am HdB zum gemeinsamen Walken. Anmeldung beim AP erforderlich!
URL:https://www.ekgt.de/veranstaltung/forum-walking/2027-07-02/
LOCATION:Gütersloh an verschiedenen Orten\, Deutschland
CATEGORIES:Forum-Sportliches,Walken,Forum Gemeinsam älter werden
END:VEVENT
BEGIN:VEVENT
DTSTART;TZID=Europe/Berlin:20270702T163000
DTEND;TZID=Europe/Berlin:20270702T190000
DTSTAMP:20260425T152157
CREATED:20190130T153916Z
LAST-MODIFIED:20230118T105621Z
UID:10003469-1814545800-1814554800@www.ekgt.de
SUMMARY:Jungbläserausbildung Posaunenchor Mitte
DESCRIPTION:Information und Anmeldung bei Herrn Martin Stork\, T. 73165 \n 
URL:https://www.ekgt.de/veranstaltung/jungblaeserausbildung-posaunnchor-mitte/2027-07-02/
LOCATION:Haus der Begegnung\, Kirchstr. 14a\, Gütersloh\, 33330\, Deutschland
CATEGORIES:Haus der Begegnung - VA der Apostelkirche,Jungbläser,Apostelkirche,Posaunenchor Stadtmitte,Apostelkirche,Veranstaltungen,Zentral
ATTACH;FMTTYPE=image/jpeg:https://www.ekgt.de/inhalt/uploads/2018/09/AdobeStock_36770901-e1553776160574.jpeg
ORGANIZER;CN="M. Stork":MAILTO:martin.stork@t-online.de
END:VEVENT
BEGIN:VEVENT
DTSTART;TZID=Europe/Berlin:20270702T200000
DTEND;TZID=Europe/Berlin:20270702T220000
DTSTAMP:20260425T152157
CREATED:20180817T093815Z
LAST-MODIFIED:20200924T152552Z
UID:10002842-1814558400-1814565600@www.ekgt.de
SUMMARY:Posaunenchorprobe
DESCRIPTION:Außerhalb der Sommerferien immer freitags von 20.00-22.00 Uhr im Haus der Begegnung (Kirchstraße 14a). \nDie Leitung der Ausbildung liegt in den Händen unseres Chorleiters Martin Stork. Der Unterricht (Gruppen- oder Einzelunterricht) findet wöchentlich statt. \nAnmeldung hier! 
URL:https://www.ekgt.de/veranstaltung/posaunenchorprobe/2027-07-02/
LOCATION:Haus der Begegnung\, Kirchstr. 14a\, Gütersloh\, 33330\, Deutschland
CATEGORIES:Haus der Begegnung - VA der Apostelkirche,Apostelkirche,Posaunenchor Stadtmitte,Apostelkirche,Veranstaltungen,Zentral
ATTACH;FMTTYPE=image/jpeg:https://www.ekgt.de/inhalt/uploads/2018/08/posaunenchor.jpg
END:VEVENT
END:VCALENDAR