BEGIN:VCALENDAR
VERSION:2.0
PRODID:-//Evangelische Kirchengemeinde Gütersloh - ECPv6.5.0.1//NONSGML v1.0//EN
CALSCALE:GREGORIAN
METHOD:PUBLISH
X-WR-CALNAME:Evangelische Kirchengemeinde Gütersloh
X-ORIGINAL-URL:https://www.ekgt.de
X-WR-CALDESC:Veranstaltungen für Evangelische Kirchengemeinde Gütersloh
REFRESH-INTERVAL;VALUE=DURATION:PT1H
X-Robots-Tag:noindex
X-PUBLISHED-TTL:PT1H
BEGIN:VTIMEZONE
TZID:Europe/Berlin
BEGIN:DAYLIGHT
TZOFFSETFROM:+0100
TZOFFSETTO:+0200
TZNAME:CEST
DTSTART:20270328T010000
END:DAYLIGHT
BEGIN:STANDARD
TZOFFSETFROM:+0200
TZOFFSETTO:+0100
TZNAME:CET
DTSTART:20271031T010000
END:STANDARD
END:VTIMEZONE
BEGIN:VEVENT
DTSTART;TZID=Europe/Berlin:20270601T093000
DTEND;TZID=Europe/Berlin:20270601T093000
DTSTAMP:20260425T154948
CREATED:20251222T154427Z
LAST-MODIFIED:20251222T154428Z
UID:10009915-1811842200-1811842200@www.ekgt.de
SUMMARY:Walking
DESCRIPTION:
URL:https://www.ekgt.de/veranstaltung/walking-2/2027-06-01/
LOCATION:Gütersloh an verschiedenen Orten\, Deutschland
CATEGORIES:Communiapp,Netzwerk 55plus
ORGANIZER;CN="Horst Jache":MAILTO:Horstjache@aol.com
END:VEVENT
BEGIN:VEVENT
DTSTART;TZID=Europe/Berlin:20270601T100000
DTEND;TZID=Europe/Berlin:20270601T100000
DTSTAMP:20260425T154948
CREATED:20250809T101217Z
LAST-MODIFIED:20250809T101256Z
UID:10009649-1811844000-1811844000@www.ekgt.de
SUMMARY:Mobilitätstraining
DESCRIPTION:
URL:https://www.ekgt.de/veranstaltung/mobilitaetstraining/2027-06-01/
LOCATION:Matthäus Gemeindezentrum\, Auf der Haar 64\, Gütersloh\, 33332\, Deutschland
CATEGORIES:Communiapp,Netzwerk 55plus
ORGANIZER;CN="Gaby Erdsiek":MAILTO:gaby.erdsiek@web.de
END:VEVENT
BEGIN:VEVENT
DTSTART;TZID=Europe/Berlin:20270601T100000
DTEND;TZID=Europe/Berlin:20270601T100000
DTSTAMP:20260425T154948
CREATED:20251222T155044Z
LAST-MODIFIED:20251222T155101Z
UID:10011242-1811844000-1811844000@www.ekgt.de
SUMMARY:English for Every Day
DESCRIPTION:
URL:https://www.ekgt.de/veranstaltung/english-for-every-day-2/2027-06-01/
LOCATION:Matthäus Gemeindezentrum\, Auf der Haar 64\, Gütersloh\, 33332\, Deutschland
CATEGORIES:Netzwerk 55plus - Englisch,Communiapp,Netzwerk 55plus
END:VEVENT
BEGIN:VEVENT
DTSTART;TZID=Europe/Berlin:20270601T193000
DTEND;TZID=Europe/Berlin:20270601T213000
DTSTAMP:20260425T154948
CREATED:20181110T143845Z
LAST-MODIFIED:20211004T073755Z
UID:10003046-1811878200-1811885400@www.ekgt.de
SUMMARY:Matthäus-Chor\, Chorprobe
DESCRIPTION:
URL:https://www.ekgt.de/veranstaltung/matthaeus-chor-chorprobe/2027-06-01/
LOCATION:Matthäuskirche\, Auf der Haar 64\, Gütersloh\, 33332\, Deutschland
CATEGORIES:Matthäuschor
ORGANIZER;CN="P. He%C3%9Fler":MAILTO:matthaeus-chor-guetersloh@t-online.de
END:VEVENT
END:VCALENDAR