BEGIN:VCALENDAR
VERSION:2.0
PRODID:-//Evangelische Kirchengemeinde Gütersloh - ECPv6.5.0.1//NONSGML v1.0//EN
CALSCALE:GREGORIAN
METHOD:PUBLISH
X-WR-CALNAME:Evangelische Kirchengemeinde Gütersloh
X-ORIGINAL-URL:https://www.ekgt.de
X-WR-CALDESC:Veranstaltungen für Evangelische Kirchengemeinde Gütersloh
REFRESH-INTERVAL;VALUE=DURATION:PT1H
X-Robots-Tag:noindex
X-PUBLISHED-TTL:PT1H
BEGIN:VTIMEZONE
TZID:Europe/Berlin
BEGIN:DAYLIGHT
TZOFFSETFROM:+0100
TZOFFSETTO:+0200
TZNAME:CEST
DTSTART:20260329T010000
END:DAYLIGHT
BEGIN:STANDARD
TZOFFSETFROM:+0200
TZOFFSETTO:+0100
TZNAME:CET
DTSTART:20261025T010000
END:STANDARD
END:VTIMEZONE
BEGIN:VEVENT
DTSTART;TZID=Europe/Berlin:20260831T143000
DTEND;TZID=Europe/Berlin:20260831T163000
DTSTAMP:20260421T221646
CREATED:20250925T152121Z
LAST-MODIFIED:20251127T171829Z
UID:10010472-1788186600-1788193800@www.ekgt.de
SUMMARY:Die gemütliche Kaffeerunde im Haus der Begegnung
DESCRIPTION:Das Haus der Begegnung lädt Sie wieder ein zur ‘Gemütlichen Kaffeerunde’\, zu gemütlichen Gesprächen bei Kaffee und Kuchen. \nFür diese Veranstaltung ist ein Fahrdienst möglich\, der Sie von zu Hause abholt und wieder zurückbringt. \nFür weitere Informationen rufen Sie bitte im Haus der Begegnung an.\nTelefon Nr.: 05241 2 22 92 15 \nOder klicken Sie bitte hier .
URL:https://www.ekgt.de/veranstaltung/die-gemuetliche-kaffeerunde-im-haus-der-begegnung/2026-08-31/
LOCATION:Haus der Begegnung\, Kirchstr. 14a\, Gütersloh\, 33330\, Deutschland
CATEGORIES:hdb-kontakt-kaffee
ORGANIZER;CN="Haus der Begegnung":MAILTO:hausderbegegnung@ekgt.de
END:VEVENT
BEGIN:VEVENT
DTSTART;TZID=Europe/Berlin:20260831T193000
DTEND;TZID=Europe/Berlin:20260831T213000
DTSTAMP:20260421T221646
CREATED:20250831T155417Z
LAST-MODIFIED:20250831T161855Z
UID:10003216-1788204600-1788211800@www.ekgt.de
SUMMARY:Hauskreis Matthäus
DESCRIPTION:Wechselnde Orte bitte erfragen. Neue Gesichter sind willkommen! \nAnsprechpartner: Annette und Christian Haase\, Tel. 0151-28734898\, christian.haase@gtelnet.net
URL:https://www.ekgt.de/veranstaltung/hauskreis-region-sued-2/2026-08-31/
LOCATION:Gütersloh an verschiedenen Orten\, Deutschland
CATEGORIES:Hauskreis Matthäus,Matthäuskirche und -gemeindezentrum
END:VEVENT
END:VCALENDAR