BEGIN:VCALENDAR
VERSION:2.0
PRODID:-//Evangelische Kirchengemeinde Gütersloh - ECPv6.5.0.1//NONSGML v1.0//EN
CALSCALE:GREGORIAN
METHOD:PUBLISH
X-WR-CALNAME:Evangelische Kirchengemeinde Gütersloh
X-ORIGINAL-URL:https://www.ekgt.de
X-WR-CALDESC:Veranstaltungen für Evangelische Kirchengemeinde Gütersloh
REFRESH-INTERVAL;VALUE=DURATION:PT1H
X-Robots-Tag:noindex
X-PUBLISHED-TTL:PT1H
BEGIN:VTIMEZONE
TZID:Europe/Berlin
BEGIN:DAYLIGHT
TZOFFSETFROM:+0100
TZOFFSETTO:+0200
TZNAME:CEST
DTSTART:20260329T010000
END:DAYLIGHT
BEGIN:STANDARD
TZOFFSETFROM:+0200
TZOFFSETTO:+0100
TZNAME:CET
DTSTART:20261025T010000
END:STANDARD
END:VTIMEZONE
BEGIN:VEVENT
DTSTART;TZID=Europe/Berlin:20260802T170000
DTEND;TZID=Europe/Berlin:20260802T170000
DTSTAMP:20260421T203305
CREATED:20251027T135219Z
LAST-MODIFIED:20251027T135220Z
UID:10006208-1785690000-1785690000@www.ekgt.de
SUMMARY:Forum Stammtisch
DESCRIPTION:“Trink doch einen mit” \nZu einem gemütlichen Treffen mit leckerem Essen und Trinken treffen wir uns in der Gaststätte Syrtaki in der Schulstr. \nAnmeldung erforderlich!
URL:https://www.ekgt.de/veranstaltung/forum-stammtisch-2-2-2/2026-08-02/
LOCATION:Gütersloh an verschiedenen Orten\, Deutschland
CATEGORIES:Forum-Geselliges,Stammtisch,Forum Gemeinsam älter werden
ORGANIZER;CN="Haus der Begegnung":MAILTO:hausderbegegnung@ekgt.de
END:VEVENT
END:VCALENDAR