BEGIN:VCALENDAR
VERSION:2.0
PRODID:-//Evangelische Kirchengemeinde Gütersloh - ECPv6.5.0.1//NONSGML v1.0//EN
CALSCALE:GREGORIAN
METHOD:PUBLISH
X-WR-CALNAME:Evangelische Kirchengemeinde Gütersloh
X-ORIGINAL-URL:https://www.ekgt.de
X-WR-CALDESC:Veranstaltungen für Evangelische Kirchengemeinde Gütersloh
REFRESH-INTERVAL;VALUE=DURATION:PT1H
X-Robots-Tag:noindex
X-PUBLISHED-TTL:PT1H
BEGIN:VTIMEZONE
TZID:Europe/Berlin
BEGIN:DAYLIGHT
TZOFFSETFROM:+0100
TZOFFSETTO:+0200
TZNAME:CEST
DTSTART:20260329T010000
END:DAYLIGHT
BEGIN:STANDARD
TZOFFSETFROM:+0200
TZOFFSETTO:+0100
TZNAME:CET
DTSTART:20261025T010000
END:STANDARD
END:VTIMEZONE
BEGIN:VEVENT
DTSTART;TZID=Europe/Berlin:20260730T164500
DTEND;TZID=Europe/Berlin:20260730T190000
DTSTAMP:20260421T203947
CREATED:20190220T201827Z
LAST-MODIFIED:20230830T123609Z
UID:10003727-1785429900-1785438000@www.ekgt.de
SUMMARY:Chorprobe Jugendchor Matthäus
DESCRIPTION:
URL:https://www.ekgt.de/veranstaltung/chorprobe-jugendchor-matthaeus/2026-07-30/
LOCATION:Matthäuskirche\, Auf der Haar 64\, Gütersloh\, 33332\, Deutschland
CATEGORIES:Matthäuskirche und -gemeindezentrum
ORGANIZER;CN="P. He%C3%9Fler":MAILTO:matthaeus-chor-guetersloh@t-online.de
END:VEVENT
BEGIN:VEVENT
DTSTART;TZID=Europe/Berlin:20260730T193000
DTEND;TZID=Europe/Berlin:20260730T210000
DTSTAMP:20260421T203947
CREATED:20190220T185133Z
LAST-MODIFIED:20241027T080839Z
UID:10003937-1785439800-1785445200@www.ekgt.de
SUMMARY:Chorprobe After8Chor
DESCRIPTION:
URL:https://www.ekgt.de/veranstaltung/chorprobe-after8chor/2026-07-30/
LOCATION:Matthäuskirche\, Auf der Haar 64\, Gütersloh\, 33332\, Deutschland
CATEGORIES:After8Chor,Matthäuskirche und -gemeindezentrum
ORGANIZER;CN="P. He%C3%9Fler":MAILTO:matthaeus-chor-guetersloh@t-online.de
END:VEVENT
END:VCALENDAR