BEGIN:VCALENDAR
VERSION:2.0
PRODID:-//Evangelische Kirchengemeinde Gütersloh - ECPv6.5.0.1//NONSGML v1.0//EN
CALSCALE:GREGORIAN
METHOD:PUBLISH
X-ORIGINAL-URL:https://www.ekgt.de
X-WR-CALDESC:Veranstaltungen für Evangelische Kirchengemeinde Gütersloh
REFRESH-INTERVAL;VALUE=DURATION:PT1H
X-Robots-Tag:noindex
X-PUBLISHED-TTL:PT1H
BEGIN:VTIMEZONE
TZID:Europe/Berlin
BEGIN:DAYLIGHT
TZOFFSETFROM:+0100
TZOFFSETTO:+0200
TZNAME:CEST
DTSTART:20260329T010000
END:DAYLIGHT
BEGIN:STANDARD
TZOFFSETFROM:+0200
TZOFFSETTO:+0100
TZNAME:CET
DTSTART:20261025T010000
END:STANDARD
END:VTIMEZONE
BEGIN:VEVENT
DTSTART;VALUE=DATE:20260304
DTEND;VALUE=DATE:20260327
DTSTAMP:20260421T104853
CREATED:20260212T091547Z
LAST-MODIFIED:20260212T091547Z
UID:10011694-1772582400-1774569599@www.ekgt.de
SUMMARY:Ökumenische Bibelwochen 2026
DESCRIPTION:„Vom Feiern und Fürchten“\, so lautet das Thema der diesjährigen „Ökumenischen Bibelwochen“ vom 4. bis zum 26. März. \nWir laden Sie herzlich ein\, an einem Abend gemeinsam mit evangelischen\, katholischen und neuapostolischen Christen Texte aus dem Buch Ester zu lesen und sich über ihre Bedeutung für unser Leben auszutauschen. Die Gesprächsabende sind durch ökumenische Teams vorbereitet und abwechslungsreich gestaltet.\nIn diesem Jahr lesen wir an vier Abenden je einen Text aus dem Buch Ester\, das aufgrund der derzeitigen politischen Situation ausgesprochen aktuell wirkt. Die Erzählung schildert\,\nwie Machtmissbrauch funktioniert und sie zeigt\, wie sich Menschen erfolgreich gegen Unrecht behaupten. Darüber hinaus erklärt sie\, wie das jüdische Purim – Fest entstand. \nDie Abende gehen von 19:30 Uhr bis 21:00 Uhr und sind folgendermaßen geplant:\n• Mittwoch\, 4. März:\nGemeindehaus Zum Guten Hirten\, Kahlertstr. 195\nEster 1-2\, Eine Frage der Ehre\n• Mittwoch\, 11. März:\nHaus der Landeskirchliche Gemeinschaft\, Bäckerkamp 53A\nEster 3-5\, Eine Frage des Mutes\n• Mittwoch\, 18. März:\nLukassaal der Johanneskirche\, Pavenstädter Weg 11\nEster 6-8\, Eine Frage der Strategie\n• Donnerstag\, 26. März:\nNeuapostolische Kirche Gütersloh\, Johann-Severin-Str. 1\nEster 9-10\, Eine Frage des Erinnerns \nAm Sonntag 8. März findet um 10:30 Uhr ein ökumenischer Gottesdienst in der Apostelkirche statt. Er wird musikalisch begleitet vom Chor Cantabile. \nEine Anmeldung ist nicht notwendig. Kommen Sie einfach dazu. Jede Veranstaltung steht für sich. \n 
URL:https://www.ekgt.de/veranstaltung/oekumenische-bibelwochen-2026/
LOCATION:Gütersloh an verschiedenen Orten\, Deutschland
END:VEVENT
BEGIN:VEVENT
DTSTART;TZID=Europe/Berlin:20260319T100000
DTEND;TZID=Europe/Berlin:20260319T110000
DTSTAMP:20260421T104854
CREATED:20250403T145658Z
LAST-MODIFIED:20260203T102723Z
UID:10007762-1773914400-1773918000@www.ekgt.de
SUMMARY:Sitzgymnastik im Haus der Begegnung
DESCRIPTION:Leitung:Fr. Ingrid Bleßmann \nfür weitere Infos bitte hier klicken.  \nZu der Veranstaltung bieten wir einen Fahrdienst an.\nBitte melden Sie sich telefonisch im HdB unter der Telefonnummer: 05241/ 22 29 215 \n 
URL:https://www.ekgt.de/veranstaltung/sitzgymnastik-im-haus-der-begegnung-2/2026-03-19/
LOCATION:Haus der Begegnung\, Kirchstr. 14a\, Gütersloh\, 33330\, Deutschland
CATEGORIES:hdb-sport-sitz
ORGANIZER;CN="Haus der Begegnung":MAILTO:hausderbegegnung@ekgt.de
END:VEVENT
BEGIN:VEVENT
DTSTART;TZID=Europe/Berlin:20260319T143000
DTEND;TZID=Europe/Berlin:20260319T163000
DTSTAMP:20260421T104854
CREATED:20260211T151910Z
LAST-MODIFIED:20260211T151910Z
UID:10011691-1773930600-1773937800@www.ekgt.de
SUMMARY:Der Quiznachmittag
DESCRIPTION:Leitung: Fr. Susanne Schreiber \nBitte klicken Sie hier für weitere Informationen. \n 
URL:https://www.ekgt.de/veranstaltung/der-quiznachmittag-3/
LOCATION:Haus der Begegnung\, Kirchstr. 14a\, Gütersloh\, 33330\, Deutschland
CATEGORIES:HdB-Spiele-Quiz
ORGANIZER;CN="Haus der Begegnung":MAILTO:hausderbegegnung@ekgt.de
END:VEVENT
BEGIN:VEVENT
DTSTART;TZID=Europe/Berlin:20260319T150000
DTEND;TZID=Europe/Berlin:20260319T160000
DTSTAMP:20260421T104854
CREATED:20260211T151752Z
LAST-MODIFIED:20260211T151752Z
UID:10011681-1773932400-1773936000@www.ekgt.de
SUMMARY:Seniorenfitness im Haus der Begegnung
DESCRIPTION:Leitung: Fr. Straube \nFür weitere Infos bitte hier klicken.
URL:https://www.ekgt.de/veranstaltung/seniorenfitness-im-haus-der-begegnung-2/2026-03-19/
LOCATION:Haus der Begegnung\, Kirchstr. 14a\, Gütersloh\, 33330\, Deutschland
CATEGORIES:hdb-sport-gym
ORGANIZER;CN="Haus der Begegnung":MAILTO:hausderbegegnung@ekgt.de
END:VEVENT
BEGIN:VEVENT
DTSTART;TZID=Europe/Berlin:20260319T164500
DTEND;TZID=Europe/Berlin:20260319T190000
DTSTAMP:20260421T104854
CREATED:20190220T201827Z
LAST-MODIFIED:20230830T123609Z
UID:10003708-1773938700-1773946800@www.ekgt.de
SUMMARY:Chorprobe Jugendchor Matthäus
DESCRIPTION:
URL:https://www.ekgt.de/veranstaltung/chorprobe-jugendchor-matthaeus/2026-03-19/
LOCATION:Matthäuskirche\, Auf der Haar 64\, Gütersloh\, 33332\, Deutschland
CATEGORIES:Matthäuskirche und -gemeindezentrum
ORGANIZER;CN="P. He%C3%9Fler":MAILTO:matthaeus-chor-guetersloh@t-online.de
END:VEVENT
BEGIN:VEVENT
DTSTART;TZID=Europe/Berlin:20260319T193000
DTEND;TZID=Europe/Berlin:20260319T210000
DTSTAMP:20260421T104854
CREATED:20190220T185133Z
LAST-MODIFIED:20241027T080839Z
UID:10003918-1773948600-1773954000@www.ekgt.de
SUMMARY:Chorprobe After8Chor
DESCRIPTION:
URL:https://www.ekgt.de/veranstaltung/chorprobe-after8chor/2026-03-19/
LOCATION:Matthäuskirche\, Auf der Haar 64\, Gütersloh\, 33332\, Deutschland
CATEGORIES:After8Chor,Matthäuskirche und -gemeindezentrum
ORGANIZER;CN="P. He%C3%9Fler":MAILTO:matthaeus-chor-guetersloh@t-online.de
END:VEVENT
END:VCALENDAR