BEGIN:VCALENDAR
VERSION:2.0
PRODID:-//Evangelische Kirchengemeinde Gütersloh - ECPv6.5.0.1//NONSGML v1.0//EN
CALSCALE:GREGORIAN
METHOD:PUBLISH
X-WR-CALNAME:Evangelische Kirchengemeinde Gütersloh
X-ORIGINAL-URL:https://www.ekgt.de
X-WR-CALDESC:Veranstaltungen für Evangelische Kirchengemeinde Gütersloh
REFRESH-INTERVAL;VALUE=DURATION:PT1H
X-Robots-Tag:noindex
X-PUBLISHED-TTL:PT1H
BEGIN:VTIMEZONE
TZID:Europe/Berlin
BEGIN:DAYLIGHT
TZOFFSETFROM:+0100
TZOFFSETTO:+0200
TZNAME:CEST
DTSTART:20260329T010000
END:DAYLIGHT
BEGIN:STANDARD
TZOFFSETFROM:+0200
TZOFFSETTO:+0100
TZNAME:CET
DTSTART:20261025T010000
END:STANDARD
END:VTIMEZONE
BEGIN:VEVENT
DTSTART;VALUE=DATE:20260304
DTEND;VALUE=DATE:20260327
DTSTAMP:20260421T140800
CREATED:20260212T091547Z
LAST-MODIFIED:20260212T091547Z
UID:10011694-1772582400-1774569599@www.ekgt.de
SUMMARY:Ökumenische Bibelwochen 2026
DESCRIPTION:„Vom Feiern und Fürchten“\, so lautet das Thema der diesjährigen „Ökumenischen Bibelwochen“ vom 4. bis zum 26. März. \nWir laden Sie herzlich ein\, an einem Abend gemeinsam mit evangelischen\, katholischen und neuapostolischen Christen Texte aus dem Buch Ester zu lesen und sich über ihre Bedeutung für unser Leben auszutauschen. Die Gesprächsabende sind durch ökumenische Teams vorbereitet und abwechslungsreich gestaltet.\nIn diesem Jahr lesen wir an vier Abenden je einen Text aus dem Buch Ester\, das aufgrund der derzeitigen politischen Situation ausgesprochen aktuell wirkt. Die Erzählung schildert\,\nwie Machtmissbrauch funktioniert und sie zeigt\, wie sich Menschen erfolgreich gegen Unrecht behaupten. Darüber hinaus erklärt sie\, wie das jüdische Purim – Fest entstand. \nDie Abende gehen von 19:30 Uhr bis 21:00 Uhr und sind folgendermaßen geplant:\n• Mittwoch\, 4. März:\nGemeindehaus Zum Guten Hirten\, Kahlertstr. 195\nEster 1-2\, Eine Frage der Ehre\n• Mittwoch\, 11. März:\nHaus der Landeskirchliche Gemeinschaft\, Bäckerkamp 53A\nEster 3-5\, Eine Frage des Mutes\n• Mittwoch\, 18. März:\nLukassaal der Johanneskirche\, Pavenstädter Weg 11\nEster 6-8\, Eine Frage der Strategie\n• Donnerstag\, 26. März:\nNeuapostolische Kirche Gütersloh\, Johann-Severin-Str. 1\nEster 9-10\, Eine Frage des Erinnerns \nAm Sonntag 8. März findet um 10:30 Uhr ein ökumenischer Gottesdienst in der Apostelkirche statt. Er wird musikalisch begleitet vom Chor Cantabile. \nEine Anmeldung ist nicht notwendig. Kommen Sie einfach dazu. Jede Veranstaltung steht für sich. \n 
URL:https://www.ekgt.de/veranstaltung/oekumenische-bibelwochen-2026/
LOCATION:Gütersloh an verschiedenen Orten\, Deutschland
END:VEVENT
BEGIN:VEVENT
DTSTART;TZID=Europe/Berlin:20260313T100000
DTEND;TZID=Europe/Berlin:20260313T100000
DTSTAMP:20260421T140800
CREATED:20250809T093802Z
LAST-MODIFIED:20250809T094352Z
UID:10009194-1773396000-1773396000@www.ekgt.de
SUMMARY:Boule
DESCRIPTION:
URL:https://www.ekgt.de/veranstaltung/boule/2026-03-13/
LOCATION:Eiswiese im Stadtpark
CATEGORIES:Netzwerk 55plus - Boule,Communiapp,Netzwerk 55plus
END:VEVENT
BEGIN:VEVENT
DTSTART;TZID=Europe/Berlin:20260313T110000
DTEND;TZID=Europe/Berlin:20260313T110000
DTSTAMP:20260421T140800
CREATED:20221101T164320Z
LAST-MODIFIED:20221101T164320Z
UID:10004797-1773399600-1773399600@www.ekgt.de
SUMMARY:Forum Walking
DESCRIPTION:Wir treffen uns an jedem Freitag am HdB zum gemeinsamen Walken. Anmeldung beim AP erforderlich!
URL:https://www.ekgt.de/veranstaltung/forum-walking/2026-03-13/
LOCATION:Gütersloh an verschiedenen Orten\, Deutschland
CATEGORIES:Forum-Sportliches,Walken,Forum Gemeinsam älter werden
END:VEVENT
BEGIN:VEVENT
DTSTART;TZID=Europe/Berlin:20260313T143000
DTEND;TZID=Europe/Berlin:20260313T170000
DTSTAMP:20260421T140800
CREATED:20250903T095144Z
LAST-MODIFIED:20251230T110910Z
UID:10010285-1773412200-1773421200@www.ekgt.de
SUMMARY:Schach und Kartenspielen im Haus der Begegnung
DESCRIPTION:Weitere Informationen zu den Terminen finden Sie\, wenn Sie hier klicken.
URL:https://www.ekgt.de/veranstaltung/schach-und-kartenspielen-im-haus-der-begegnung-4-2-2/2026-03-13/
LOCATION:Haus der Begegnung\, Kirchstr. 14a\, Gütersloh\, 33330\, Deutschland
CATEGORIES:Hdb-Spiele-Karten
ORGANIZER;CN="Haus der Begegnung":MAILTO:hausderbegegnung@ekgt.de
END:VEVENT
BEGIN:VEVENT
DTSTART;TZID=Europe/Berlin:20260313T163000
DTEND;TZID=Europe/Berlin:20260313T190000
DTSTAMP:20260421T140800
CREATED:20190130T153916Z
LAST-MODIFIED:20230118T105621Z
UID:10003401-1773419400-1773428400@www.ekgt.de
SUMMARY:Jungbläserausbildung Posaunenchor Mitte
DESCRIPTION:Information und Anmeldung bei Herrn Martin Stork\, T. 73165 \n 
URL:https://www.ekgt.de/veranstaltung/jungblaeserausbildung-posaunnchor-mitte/2026-03-13/
LOCATION:Haus der Begegnung\, Kirchstr. 14a\, Gütersloh\, 33330\, Deutschland
CATEGORIES:Haus der Begegnung - VA der Apostelkirche,Jungbläser,Apostelkirche,Posaunenchor Stadtmitte,Apostelkirche,Veranstaltungen,Zentral
ATTACH;FMTTYPE=image/jpeg:https://www.ekgt.de/inhalt/uploads/2018/09/AdobeStock_36770901-e1553776160574.jpeg
ORGANIZER;CN="M. Stork":MAILTO:martin.stork@t-online.de
END:VEVENT
BEGIN:VEVENT
DTSTART;TZID=Europe/Berlin:20260313T200000
DTEND;TZID=Europe/Berlin:20260313T220000
DTSTAMP:20260421T140800
CREATED:20180817T093815Z
LAST-MODIFIED:20200924T152552Z
UID:10002774-1773432000-1773439200@www.ekgt.de
SUMMARY:Posaunenchorprobe
DESCRIPTION:Außerhalb der Sommerferien immer freitags von 20.00-22.00 Uhr im Haus der Begegnung (Kirchstraße 14a). \nDie Leitung der Ausbildung liegt in den Händen unseres Chorleiters Martin Stork. Der Unterricht (Gruppen- oder Einzelunterricht) findet wöchentlich statt. \nAnmeldung hier! 
URL:https://www.ekgt.de/veranstaltung/posaunenchorprobe/2026-03-13/
LOCATION:Haus der Begegnung\, Kirchstr. 14a\, Gütersloh\, 33330\, Deutschland
CATEGORIES:Haus der Begegnung - VA der Apostelkirche,Apostelkirche,Posaunenchor Stadtmitte,Apostelkirche,Veranstaltungen,Zentral
ATTACH;FMTTYPE=image/jpeg:https://www.ekgt.de/inhalt/uploads/2018/08/posaunenchor.jpg
END:VEVENT
END:VCALENDAR