BEGIN:VCALENDAR
VERSION:2.0
PRODID:-//Evangelische Kirchengemeinde Gütersloh - ECPv6.5.0.1//NONSGML v1.0//EN
CALSCALE:GREGORIAN
METHOD:PUBLISH
X-ORIGINAL-URL:https://www.ekgt.de
X-WR-CALDESC:Veranstaltungen für Evangelische Kirchengemeinde Gütersloh
REFRESH-INTERVAL;VALUE=DURATION:PT1H
X-Robots-Tag:noindex
X-PUBLISHED-TTL:PT1H
BEGIN:VTIMEZONE
TZID:Europe/Berlin
BEGIN:DAYLIGHT
TZOFFSETFROM:+0100
TZOFFSETTO:+0200
TZNAME:CEST
DTSTART:20260329T010000
END:DAYLIGHT
BEGIN:STANDARD
TZOFFSETFROM:+0200
TZOFFSETTO:+0100
TZNAME:CET
DTSTART:20261025T010000
END:STANDARD
END:VTIMEZONE
BEGIN:VEVENT
DTSTART;VALUE=DATE:20260304
DTEND;VALUE=DATE:20260327
DTSTAMP:20260421T180029
CREATED:20260212T091547Z
LAST-MODIFIED:20260212T091547Z
UID:10011694-1772582400-1774569599@www.ekgt.de
SUMMARY:Ökumenische Bibelwochen 2026
DESCRIPTION:„Vom Feiern und Fürchten“\, so lautet das Thema der diesjährigen „Ökumenischen Bibelwochen“ vom 4. bis zum 26. März. \nWir laden Sie herzlich ein\, an einem Abend gemeinsam mit evangelischen\, katholischen und neuapostolischen Christen Texte aus dem Buch Ester zu lesen und sich über ihre Bedeutung für unser Leben auszutauschen. Die Gesprächsabende sind durch ökumenische Teams vorbereitet und abwechslungsreich gestaltet.\nIn diesem Jahr lesen wir an vier Abenden je einen Text aus dem Buch Ester\, das aufgrund der derzeitigen politischen Situation ausgesprochen aktuell wirkt. Die Erzählung schildert\,\nwie Machtmissbrauch funktioniert und sie zeigt\, wie sich Menschen erfolgreich gegen Unrecht behaupten. Darüber hinaus erklärt sie\, wie das jüdische Purim – Fest entstand. \nDie Abende gehen von 19:30 Uhr bis 21:00 Uhr und sind folgendermaßen geplant:\n• Mittwoch\, 4. März:\nGemeindehaus Zum Guten Hirten\, Kahlertstr. 195\nEster 1-2\, Eine Frage der Ehre\n• Mittwoch\, 11. März:\nHaus der Landeskirchliche Gemeinschaft\, Bäckerkamp 53A\nEster 3-5\, Eine Frage des Mutes\n• Mittwoch\, 18. März:\nLukassaal der Johanneskirche\, Pavenstädter Weg 11\nEster 6-8\, Eine Frage der Strategie\n• Donnerstag\, 26. März:\nNeuapostolische Kirche Gütersloh\, Johann-Severin-Str. 1\nEster 9-10\, Eine Frage des Erinnerns \nAm Sonntag 8. März findet um 10:30 Uhr ein ökumenischer Gottesdienst in der Apostelkirche statt. Er wird musikalisch begleitet vom Chor Cantabile. \nEine Anmeldung ist nicht notwendig. Kommen Sie einfach dazu. Jede Veranstaltung steht für sich. \n 
URL:https://www.ekgt.de/veranstaltung/oekumenische-bibelwochen-2026/
LOCATION:Gütersloh an verschiedenen Orten\, Deutschland
END:VEVENT
BEGIN:VEVENT
DTSTART;TZID=Europe/Berlin:20260307T100000
DTEND;TZID=Europe/Berlin:20260307T123000
DTSTAMP:20260421T180029
CREATED:20251221T163450Z
LAST-MODIFIED:20251221T163505Z
UID:10011204-1772877600-1772886600@www.ekgt.de
SUMMARY:Schmetterlinge - der Frühling kommt ins Haus
DESCRIPTION:Eine Veranstaltung des Netzwerks 55plus – Origami – im Matthäus Gemeindezentrum
URL:https://www.ekgt.de/veranstaltung/schmetterlinge-der-fruehling-kommt-ins-haus/
LOCATION:Matthäus Gemeindezentrum\, Auf der Haar 64\, Gütersloh\, 33332\, Deutschland
CATEGORIES:Netzwerk 55plus
END:VEVENT
BEGIN:VEVENT
DTSTART;TZID=Europe/Berlin:20260307T120000
DTEND;TZID=Europe/Berlin:20260307T120000
DTSTAMP:20260421T180029
CREATED:20251022T070749Z
LAST-MODIFIED:20251022T070834Z
UID:10008471-1772884800-1772884800@www.ekgt.de
SUMMARY:ökumenisches Friedensgebet in der Martin-Luther-Kirche
DESCRIPTION:Jeden Samstag finden um 12.00 Uhr Ökumenische Friedensgebete in der Martin-Luther-Kirche statt. \nDer Krieg in der Ukraine dauert nun schon fast 4 Jahre. Haben die immer wieder gesichteten Drohnen etwas damit zu tun?\nSeit zwei Jahren beobachten wir mit Sorge die Entwicklungen in Israel-Palästina. Was wird nach dem brüchigen Waffenstillstand?\nDas sind nur zwei der unfriedlichen Situationen weltweit.\nWir können Friedensbemühungen und Hilfeleistungen ins Gebet nehmen:\nIn der Martin-Luther-Kirche finden jeden Samstag um 12 Uhr kurze Friedensgebete (15 Min.) statt\, die von Menschen unterschiedlicher Konfessionen vorbereitet werden. Die Friedensdekade in diesem Jahr fordert uns freundlich und eindringlich auf\, die Hoffnung nicht aufzugeben und den Frieden zu wecken. \nBeteiligen Sie sich an unserem als Kirchen ureigensten Anliegen!
URL:https://www.ekgt.de/veranstaltung/oekumenisches-friedensgebet-in-der-martin-luther-kirche-2/2026-03-07/
LOCATION:Martin-Luther-Kirche\, Deutschland
CATEGORIES:Communiapp,Martin-Luther-Kirche
END:VEVENT
BEGIN:VEVENT
DTSTART;TZID=Europe/Berlin:20260307T150000
DTEND;TZID=Europe/Berlin:20260307T150000
DTSTAMP:20260421T180029
CREATED:20260211T150809Z
LAST-MODIFIED:20260211T150809Z
UID:10011658-1772895600-1772895600@www.ekgt.de
SUMMARY:Origami: Schmetterlinge - der Frühling kommt ins Haus
DESCRIPTION:Leitung: Marion Luegg-Papenbreer \nIn gemütlicher Atmosphäre wird Schritt für Schritt gezeigt\, wie aus einfachen Papierbögen filigrane Kunstwerke entstehen. Der Kurs richtet sich an alle\, die Freude am kreativen Gestalten haben oder eine neue Technik kennenlernen möchten. \nIn diesem Kurs werden aus Papier Schmetterlinge gebastelt\, die als Symbol des Frühlings gelten und auch gerne verschenkt werden können. \nVorkenntnisse werden nicht benötigt\, und Materialien werden bereitgestellt. In zwei Stunden wird Raum geboten\, Neues auszuprobieren und sich inspirieren zu lassen. \nAnmeldung im Büro des Hauses der Begegnung unter GT 2229215.
URL:https://www.ekgt.de/veranstaltung/origami-schmetterlinge-der-fruehling-kommt-ins-haus/
LOCATION:Haus der Begegnung\, Kirchstr. 14a\, Gütersloh\, 33330\, Deutschland
CATEGORIES:hdb-kreativ-basteln
ORGANIZER;CN="Haus der Begegnung":MAILTO:hausderbegegnung@ekgt.de
END:VEVENT
END:VCALENDAR