BEGIN:VCALENDAR
VERSION:2.0
PRODID:-//Evangelische Kirchengemeinde Gütersloh - ECPv6.5.0.1//NONSGML v1.0//EN
CALSCALE:GREGORIAN
METHOD:PUBLISH
X-ORIGINAL-URL:https://www.ekgt.de
X-WR-CALDESC:Veranstaltungen für Evangelische Kirchengemeinde Gütersloh
REFRESH-INTERVAL;VALUE=DURATION:PT1H
X-Robots-Tag:noindex
X-PUBLISHED-TTL:PT1H
BEGIN:VTIMEZONE
TZID:Europe/Berlin
BEGIN:DAYLIGHT
TZOFFSETFROM:+0100
TZOFFSETTO:+0200
TZNAME:CEST
DTSTART:20260329T010000
END:DAYLIGHT
BEGIN:STANDARD
TZOFFSETFROM:+0200
TZOFFSETTO:+0100
TZNAME:CET
DTSTART:20261025T010000
END:STANDARD
END:VTIMEZONE
BEGIN:VEVENT
DTSTART;TZID=Europe/Berlin:20260228T103000
DTEND;TZID=Europe/Berlin:20260228T133000
DTSTAMP:20260421T123917
CREATED:20260116T162835Z
LAST-MODIFIED:20260116T162835Z
UID:10011574-1772274600-1772285400@www.ekgt.de
SUMMARY:Geselligkeit am Samstag
DESCRIPTION:Gemeinsames Kochen\, Essen\, Spielen – gegen die Einsamkeit \nAnmeldung bitte an Anke Fuchs\, Tel.: 05241 9867 3520
URL:https://www.ekgt.de/veranstaltung/geselligkeit-am-samstag-4/
LOCATION:Haus der Begegnung\, Kirchstr. 14a\, Gütersloh\, 33330\, Deutschland
CATEGORIES:hdb-kontakt
END:VEVENT
BEGIN:VEVENT
DTSTART;TZID=Europe/Berlin:20260228T120000
DTEND;TZID=Europe/Berlin:20260228T120000
DTSTAMP:20260421T123917
CREATED:20251022T070749Z
LAST-MODIFIED:20251022T070834Z
UID:10008470-1772280000-1772280000@www.ekgt.de
SUMMARY:ökumenisches Friedensgebet in der Martin-Luther-Kirche
DESCRIPTION:Jeden Samstag finden um 12.00 Uhr Ökumenische Friedensgebete in der Martin-Luther-Kirche statt. \nDer Krieg in der Ukraine dauert nun schon fast 4 Jahre. Haben die immer wieder gesichteten Drohnen etwas damit zu tun?\nSeit zwei Jahren beobachten wir mit Sorge die Entwicklungen in Israel-Palästina. Was wird nach dem brüchigen Waffenstillstand?\nDas sind nur zwei der unfriedlichen Situationen weltweit.\nWir können Friedensbemühungen und Hilfeleistungen ins Gebet nehmen:\nIn der Martin-Luther-Kirche finden jeden Samstag um 12 Uhr kurze Friedensgebete (15 Min.) statt\, die von Menschen unterschiedlicher Konfessionen vorbereitet werden. Die Friedensdekade in diesem Jahr fordert uns freundlich und eindringlich auf\, die Hoffnung nicht aufzugeben und den Frieden zu wecken. \nBeteiligen Sie sich an unserem als Kirchen ureigensten Anliegen!
URL:https://www.ekgt.de/veranstaltung/oekumenisches-friedensgebet-in-der-martin-luther-kirche-2/2026-02-28/
LOCATION:Martin-Luther-Kirche\, Deutschland
CATEGORIES:Communiapp,Martin-Luther-Kirche
END:VEVENT
BEGIN:VEVENT
DTSTART;TZID=Europe/Berlin:20260228T173000
DTEND;TZID=Europe/Berlin:20260228T173000
DTSTAMP:20260421T123917
CREATED:20260212T091349Z
LAST-MODIFIED:20260212T091349Z
UID:10011693-1772299800-1772299800@www.ekgt.de
SUMMARY:Fastenbrechen
DESCRIPTION:In allen Religionen spielt Fasten eine wichtige Rolle\, um sich dem Göttlichen gegenüber zu öffnen und den Menschen gegenüber Gutes zu tun. Fasten hilft\, wieder Dinge wahrnehmen zu können\, die unsere Hoffnung beflügeln und unseren Wunsch nach Liebe\, Freude und Solidarität vergrößern. \nIm Jahr 2026 fallen die christliche Fastenzeit und der Ramadan in dieselbe Zeit. Deswegen laden wir gemeinsam zum Fastenbrechen am 28. Februar 2026 um 17:30 Uhr in das Haus der Begegnung\, Kirchstr. 14a\, ein. \nDabei besteht die Möglichkeit\, etwas über das christliche und muslimische Fasten zu erfahren\, an einem interkulturellen Buffet satt zu werden und (spirituelle) Gemeinschaft zu erleben. \nDieses ist eine Veranstaltung der Neuen Gütersloher Initiative\, der vhs und des Ausschusses MÖWe. \nUm planen zu können\, bitten wir um Anmeldung (bis zum 18. Februar) bei Erika Engelbrecht (Te. 212701 oder erika.engelbrecht@ekgt.de).
URL:https://www.ekgt.de/veranstaltung/fastenbrechen-2/
LOCATION:Haus der Begegnung\, Kirchstr. 14a\, Gütersloh\, 33330\, Deutschland
END:VEVENT
BEGIN:VEVENT
DTSTART;TZID=Europe/Berlin:20260228T173000
DTEND;TZID=Europe/Berlin:20260228T173000
DTSTAMP:20260421T123917
CREATED:20260128T110507Z
LAST-MODIFIED:20260128T110507Z
UID:10011621-1772299800-1772299800@www.ekgt.de
SUMMARY:Fastenbrechen
DESCRIPTION:In allen Religionen spielt Fasten eine wichtige Rolle\, um sich dem Göttlichen gegenüber zu öffnen und den Menschen gegenüber Gutes zu tun. Fasten hilft\, wieder Dinge wahrnehmen zu können\, die unsere Hoffnung beflügeln und unseren Wunsch nach Liebe\, Freude und Solidarität vergrößern. \nIm Jahr 2026 fallen die christliche Fastenzeit und der Ramadan in dieselbe Zeit. Deswegen laden wir gemeinsam zum Fastenbrechen am 28. Februar 2026 um 17.30 Uhr in das Haus der Begegnung\, Kirchstr. 14a\, ein. \nDabei besteht die Möglichkeit\, etwas über das christliche und muslimische Fasten zu erfahren\, an einem interkulturellen Buffet satt zu werden und (spirituelle) Gemeinschaft zu erleben. \nDieses ist eine Veranstaltung der Neuen Gütersloher Initiative\, der vhs und des Ausschusses MÖWe. \nUm planen zu können\, bitten wir um Anmeldung (bis zum 18. Februar) bei Erika Engelbrecht (212701 oder erika.engelbrecht@ekgt.de).
URL:https://www.ekgt.de/veranstaltung/fastenbrechen/
LOCATION:Haus der Begegnung\, Kirchstr. 14a\, Gütersloh\, 33330\, Deutschland
CATEGORIES:Veranstaltungen
END:VEVENT
END:VCALENDAR