BEGIN:VCALENDAR
VERSION:2.0
PRODID:-//Evangelische Kirchengemeinde Gütersloh - ECPv6.5.0.1//NONSGML v1.0//EN
CALSCALE:GREGORIAN
METHOD:PUBLISH
X-WR-CALNAME:Evangelische Kirchengemeinde Gütersloh
X-ORIGINAL-URL:https://www.ekgt.de
X-WR-CALDESC:Veranstaltungen für Evangelische Kirchengemeinde Gütersloh
REFRESH-INTERVAL;VALUE=DURATION:PT1H
X-Robots-Tag:noindex
X-PUBLISHED-TTL:PT1H
BEGIN:VTIMEZONE
TZID:Europe/Berlin
BEGIN:DAYLIGHT
TZOFFSETFROM:+0100
TZOFFSETTO:+0200
TZNAME:CEST
DTSTART:20260329T010000
END:DAYLIGHT
BEGIN:STANDARD
TZOFFSETFROM:+0200
TZOFFSETTO:+0100
TZNAME:CET
DTSTART:20261025T010000
END:STANDARD
END:VTIMEZONE
BEGIN:VEVENT
DTSTART;TZID=Europe/Berlin:20260219T100000
DTEND;TZID=Europe/Berlin:20260219T110000
DTSTAMP:20260421T122441
CREATED:20250403T145658Z
LAST-MODIFIED:20260203T102723Z
UID:10007758-1771495200-1771498800@www.ekgt.de
SUMMARY:Sitzgymnastik im Haus der Begegnung
DESCRIPTION:Leitung:Fr. Ingrid Bleßmann \nfür weitere Infos bitte hier klicken.  \nZu der Veranstaltung bieten wir einen Fahrdienst an.\nBitte melden Sie sich telefonisch im HdB unter der Telefonnummer: 05241/ 22 29 215 \n 
URL:https://www.ekgt.de/veranstaltung/sitzgymnastik-im-haus-der-begegnung-2/2026-02-19/
LOCATION:Haus der Begegnung\, Kirchstr. 14a\, Gütersloh\, 33330\, Deutschland
CATEGORIES:hdb-sport-sitz
ORGANIZER;CN="Haus der Begegnung":MAILTO:hausderbegegnung@ekgt.de
END:VEVENT
BEGIN:VEVENT
DTSTART;TZID=Europe/Berlin:20260219T100000
DTEND;TZID=Europe/Berlin:20260219T120000
DTSTAMP:20260421T122441
CREATED:20260117T111245Z
LAST-MODIFIED:20260117T111245Z
UID:10011585-1771495200-1771502400@www.ekgt.de
SUMMARY:Nähcoaching im Haus der Begegnung
DESCRIPTION:Kreatives Arbeiten in der Wunderwelt des Nähens \nUnter Anleitung erfahrener Schneiderinnen können die Teilnehmer eigene Projekte an der Nähmaschine erstellen. \nKurs mit 5 Terminen bis 19.02.2026 jeweils mittwochs \nKosten je Teilnehmer:  50 €
URL:https://www.ekgt.de/veranstaltung/naehcoaching-im-haus-der-begegnung/2026-02-19/
LOCATION:Haus der Begegnung\, Kirchstr. 14a\, Gütersloh\, 33330\, Deutschland
CATEGORIES:hdb-kreativ-naehen
ORGANIZER;CN="Haus der Begegnung":MAILTO:hausderbegegnung@ekgt.de
END:VEVENT
BEGIN:VEVENT
DTSTART;TZID=Europe/Berlin:20260219T143000
DTEND;TZID=Europe/Berlin:20260219T163000
DTSTAMP:20260421T122441
CREATED:20260116T163329Z
LAST-MODIFIED:20260116T163329Z
UID:10011576-1771511400-1771518600@www.ekgt.de
SUMMARY:Der Quiznachmittag
DESCRIPTION:Leitung: Fr. Susanne Schreiber \nBitte klicken Sie hier für weitere Informationen. \n 
URL:https://www.ekgt.de/veranstaltung/der-quiznachmittag-2/
LOCATION:Haus der Begegnung\, Kirchstr. 14a\, Gütersloh\, 33330\, Deutschland
CATEGORIES:HdB-Spiele-Quiz
ORGANIZER;CN="Haus der Begegnung":MAILTO:hausderbegegnung@ekgt.de
END:VEVENT
BEGIN:VEVENT
DTSTART;TZID=Europe/Berlin:20260219T150000
DTEND;TZID=Europe/Berlin:20260219T160000
DTSTAMP:20260421T122441
CREATED:20251230T110235Z
LAST-MODIFIED:20251230T111859Z
UID:10011450-1771513200-1771516800@www.ekgt.de
SUMMARY:Seniorenfitness im Haus der Begegnung
DESCRIPTION:Leitung: Fr. Straube \nFür weitere Infos bitte hier klicken.
URL:https://www.ekgt.de/veranstaltung/seniorenfitness-im-haus-der-begegnung-3/2026-02-19/
LOCATION:Haus der Begegnung\, Kirchstr. 14a\, Gütersloh\, 33330\, Deutschland
CATEGORIES:hdb-sport-gym
ORGANIZER;CN="Haus der Begegnung":MAILTO:hausderbegegnung@ekgt.de
END:VEVENT
BEGIN:VEVENT
DTSTART;TZID=Europe/Berlin:20260219T164500
DTEND;TZID=Europe/Berlin:20260219T190000
DTSTAMP:20260421T122441
CREATED:20190220T201827Z
LAST-MODIFIED:20230830T123609Z
UID:10003704-1771519500-1771527600@www.ekgt.de
SUMMARY:Chorprobe Jugendchor Matthäus
DESCRIPTION:
URL:https://www.ekgt.de/veranstaltung/chorprobe-jugendchor-matthaeus/2026-02-19/
LOCATION:Matthäuskirche\, Auf der Haar 64\, Gütersloh\, 33332\, Deutschland
CATEGORIES:Matthäuskirche und -gemeindezentrum
ORGANIZER;CN="P. He%C3%9Fler":MAILTO:matthaeus-chor-guetersloh@t-online.de
END:VEVENT
BEGIN:VEVENT
DTSTART;TZID=Europe/Berlin:20260219T170000
DTEND;TZID=Europe/Berlin:20260219T190000
DTSTAMP:20260421T122441
CREATED:20260117T111338Z
LAST-MODIFIED:20260117T111338Z
UID:10011595-1771520400-1771527600@www.ekgt.de
SUMMARY:Nähcoaching im Haus der Begegnung
DESCRIPTION:Kreatives Arbeiten in der Wunderwelt des Nähens \nUnter Anleitung erfahrener Schneiderinnen können die Teilnehmer eigene Projekte an der Nähmaschine erstellen. \nKurs mit 5 Terminen bis 19.02.2026 jeweils mittwochs \nKosten je Teilnehmer:  50 €
URL:https://www.ekgt.de/veranstaltung/naehcoaching-im-haus-der-begegnung-2/2026-02-19/
LOCATION:Haus der Begegnung\, Kirchstr. 14a\, Gütersloh\, 33330\, Deutschland
CATEGORIES:hdb-kreativ-naehen
ORGANIZER;CN="Haus der Begegnung":MAILTO:hausderbegegnung@ekgt.de
END:VEVENT
BEGIN:VEVENT
DTSTART;TZID=Europe/Berlin:20260219T193000
DTEND;TZID=Europe/Berlin:20260219T210000
DTSTAMP:20260421T122441
CREATED:20190220T185133Z
LAST-MODIFIED:20241027T080839Z
UID:10003914-1771529400-1771534800@www.ekgt.de
SUMMARY:Chorprobe After8Chor
DESCRIPTION:
URL:https://www.ekgt.de/veranstaltung/chorprobe-after8chor/2026-02-19/
LOCATION:Matthäuskirche\, Auf der Haar 64\, Gütersloh\, 33332\, Deutschland
CATEGORIES:After8Chor,Matthäuskirche und -gemeindezentrum
ORGANIZER;CN="P. He%C3%9Fler":MAILTO:matthaeus-chor-guetersloh@t-online.de
END:VEVENT
END:VCALENDAR