BEGIN:VCALENDAR
VERSION:2.0
PRODID:-//Evangelische Kirchengemeinde Gütersloh - ECPv6.5.0.1//NONSGML v1.0//EN
CALSCALE:GREGORIAN
METHOD:PUBLISH
X-ORIGINAL-URL:https://www.ekgt.de
X-WR-CALDESC:Veranstaltungen für Evangelische Kirchengemeinde Gütersloh
REFRESH-INTERVAL;VALUE=DURATION:PT1H
X-Robots-Tag:noindex
X-PUBLISHED-TTL:PT1H
BEGIN:VTIMEZONE
TZID:Europe/Berlin
BEGIN:DAYLIGHT
TZOFFSETFROM:+0100
TZOFFSETTO:+0200
TZNAME:CEST
DTSTART:20260329T010000
END:DAYLIGHT
BEGIN:STANDARD
TZOFFSETFROM:+0200
TZOFFSETTO:+0100
TZNAME:CET
DTSTART:20261025T010000
END:STANDARD
END:VTIMEZONE
BEGIN:VEVENT
DTSTART;TZID=Europe/Berlin:20260204T190000
DTEND;TZID=Europe/Berlin:20260211T200000
DTSTAMP:20260421T123903
CREATED:20251128T125342Z
LAST-MODIFIED:20260126T090142Z
UID:10011146-1770231600-1770840000@www.ekgt.de
SUMMARY:Ökumenisches Bibelteilen
DESCRIPTION:Einmal im Monat kommen evangelische und katholische Christen zusammen\, um über einen Bibeltext nachzudenken. \nWir wollen so unseren Glauben „erden“. Wir teilen unsere Gedanken und Erfahrungen\, aber auch unsere Fragen und unsere Zweifel. Deshalb nennen wir diese Treffen auch Bibel-„teilen“. \nWenn sie jetzt neugierig geworden sind\, dann kommen sie docheinfach gerne vorbei. Wir freuen uns auf sie. Vorkenntnisse sind nicht erforderlich\, nur ein wenig Neugier. \nWir treffen uns jeweils am 2. Mittwoch im Monat um 19.00 Uhr im Lukassaal der Johanneskirche\, Pavenstädter Weg 11.
URL:https://www.ekgt.de/veranstaltung/oekumenisches-bibelteilen-6/
LOCATION:Lukassaal der Johanneskirche\, Pavenstädter Weg 11\, Gütersloh\, 33334\, Deutschland
CATEGORIES:Ökumenisches Bibelteilen
END:VEVENT
BEGIN:VEVENT
DTSTART;TZID=Europe/Berlin:20260210T093000
DTEND;TZID=Europe/Berlin:20260210T093000
DTSTAMP:20260421T123903
CREATED:20251222T154427Z
LAST-MODIFIED:20251222T154428Z
UID:10009847-1770715800-1770715800@www.ekgt.de
SUMMARY:Walking
DESCRIPTION:
URL:https://www.ekgt.de/veranstaltung/walking-2/2026-02-10/
LOCATION:Gütersloh an verschiedenen Orten\, Deutschland
CATEGORIES:Communiapp,Netzwerk 55plus
ORGANIZER;CN="Horst Jache":MAILTO:Horstjache@aol.com
END:VEVENT
BEGIN:VEVENT
DTSTART;TZID=Europe/Berlin:20260210T100000
DTEND;TZID=Europe/Berlin:20260210T100000
DTSTAMP:20260421T123903
CREATED:20250809T101217Z
LAST-MODIFIED:20250809T101256Z
UID:10009581-1770717600-1770717600@www.ekgt.de
SUMMARY:Mobilitätstraining
DESCRIPTION:
URL:https://www.ekgt.de/veranstaltung/mobilitaetstraining/2026-02-10/
LOCATION:Matthäus Gemeindezentrum\, Auf der Haar 64\, Gütersloh\, 33332\, Deutschland
CATEGORIES:Communiapp,Netzwerk 55plus
ORGANIZER;CN="Gaby Erdsiek":MAILTO:gaby.erdsiek@web.de
END:VEVENT
BEGIN:VEVENT
DTSTART;TZID=Europe/Berlin:20260210T100000
DTEND;TZID=Europe/Berlin:20260210T100000
DTSTAMP:20260421T123903
CREATED:20251222T155044Z
LAST-MODIFIED:20251222T155101Z
UID:10011208-1770717600-1770717600@www.ekgt.de
SUMMARY:English for Every Day
DESCRIPTION:
URL:https://www.ekgt.de/veranstaltung/english-for-every-day-2/2026-02-10/
LOCATION:Matthäus Gemeindezentrum\, Auf der Haar 64\, Gütersloh\, 33332\, Deutschland
CATEGORIES:Netzwerk 55plus - Englisch,Communiapp,Netzwerk 55plus
END:VEVENT
BEGIN:VEVENT
DTSTART;TZID=Europe/Berlin:20260210T100000
DTEND;TZID=Europe/Berlin:20260210T113000
DTSTAMP:20260421T123903
CREATED:20250615T155206Z
LAST-MODIFIED:20250615T155341Z
UID:10008364-1770717600-1770723000@www.ekgt.de
SUMMARY:Senioren-Erlebnistanz im Haus der Begegnung
DESCRIPTION:Leitung: Fr. Annette Heitland \nFür weitre Informationen bitte hier klicken.
URL:https://www.ekgt.de/veranstaltung/senioren-erlebnistanz-im-haus-der-begegnung/2026-02-10/
LOCATION:Haus der Begegnung\, Kirchstr. 14a\, Gütersloh\, 33330\, Deutschland
CATEGORIES:hdb-sport-sentanz
ORGANIZER;CN="Haus der Begegnung":MAILTO:hausderbegegnung@ekgt.de
END:VEVENT
BEGIN:VEVENT
DTSTART;TZID=Europe/Berlin:20260210T143000
DTEND;TZID=Europe/Berlin:20260210T163000
DTSTAMP:20260421T123903
CREATED:20251230T111648Z
LAST-MODIFIED:20260107T110423Z
UID:10011444-1770733800-1770741000@www.ekgt.de
SUMMARY:Das Bibelgespräch im theo-logischen Café im Haus der Begegnung - fällt leider aus!
DESCRIPTION:Wegen Erkrankung fällt dieser Termin leider aus. \nHerzlich willkommen zum Mitdenken in der  theo-logischen Reihe „Das Bibelgespräch“ \nThema:  (wird noch bekannt gegeben) \nMit einem Text aus der Bibel werden wir über die Hoffnung sprechen\, die der christliche Glaube über das Leben hinaus aufzeigt.\nEinfach dazu kommen\, wenn Sie das Thema interessiert. Sie dürfen sich auf einen lebendigen Austausch freuen. Vorkenntnisse sind nicht erforderlich. \nLeitung: Birgit Hötte-Janke
URL:https://www.ekgt.de/veranstaltung/das-bibelgespraech-im-theo-logischen-cafe-im-haus-der-begegnung-5/
LOCATION:Haus der Begegnung\, Kirchstr. 14a\, Gütersloh\, 33330\, Deutschland
CATEGORIES:HdB-Theo-Gespraech
ORGANIZER;CN="Haus der Begegnung":MAILTO:hausderbegegnung@ekgt.de
END:VEVENT
BEGIN:VEVENT
DTSTART;TZID=Europe/Berlin:20260210T193000
DTEND;TZID=Europe/Berlin:20260210T213000
DTSTAMP:20260421T123903
CREATED:20181110T143845Z
LAST-MODIFIED:20211004T073755Z
UID:10002978-1770751800-1770759000@www.ekgt.de
SUMMARY:Matthäus-Chor\, Chorprobe
DESCRIPTION:
URL:https://www.ekgt.de/veranstaltung/matthaeus-chor-chorprobe/2026-02-10/
LOCATION:Matthäuskirche\, Auf der Haar 64\, Gütersloh\, 33332\, Deutschland
CATEGORIES:Matthäuschor
ORGANIZER;CN="P. He%C3%9Fler":MAILTO:matthaeus-chor-guetersloh@t-online.de
END:VEVENT
END:VCALENDAR