BEGIN:VCALENDAR
VERSION:2.0
PRODID:-//Evangelische Kirchengemeinde Gütersloh - ECPv6.5.0.1//NONSGML v1.0//EN
CALSCALE:GREGORIAN
METHOD:PUBLISH
X-WR-CALNAME:Evangelische Kirchengemeinde Gütersloh
X-ORIGINAL-URL:https://www.ekgt.de
X-WR-CALDESC:Veranstaltungen für Evangelische Kirchengemeinde Gütersloh
REFRESH-INTERVAL;VALUE=DURATION:PT1H
X-Robots-Tag:noindex
X-PUBLISHED-TTL:PT1H
BEGIN:VTIMEZONE
TZID:Europe/Berlin
BEGIN:DAYLIGHT
TZOFFSETFROM:+0100
TZOFFSETTO:+0200
TZNAME:CEST
DTSTART:20260329T010000
END:DAYLIGHT
BEGIN:STANDARD
TZOFFSETFROM:+0200
TZOFFSETTO:+0100
TZNAME:CET
DTSTART:20261025T010000
END:STANDARD
END:VTIMEZONE
BEGIN:VEVENT
DTSTART;TZID=Europe/Berlin:20260129T100000
DTEND;TZID=Europe/Berlin:20260129T110000
DTSTAMP:20260422T015908
CREATED:20250403T145658Z
LAST-MODIFIED:20260203T102723Z
UID:10007755-1769680800-1769684400@www.ekgt.de
SUMMARY:Sitzgymnastik im Haus der Begegnung
DESCRIPTION:Leitung:Fr. Ingrid Bleßmann \nfür weitere Infos bitte hier klicken.  \nZu der Veranstaltung bieten wir einen Fahrdienst an.\nBitte melden Sie sich telefonisch im HdB unter der Telefonnummer: 05241/ 22 29 215 \n 
URL:https://www.ekgt.de/veranstaltung/sitzgymnastik-im-haus-der-begegnung-2/2026-01-29/
LOCATION:Haus der Begegnung\, Kirchstr. 14a\, Gütersloh\, 33330\, Deutschland
CATEGORIES:hdb-sport-sitz
ORGANIZER;CN="Haus der Begegnung":MAILTO:hausderbegegnung@ekgt.de
END:VEVENT
BEGIN:VEVENT
DTSTART;TZID=Europe/Berlin:20260129T100000
DTEND;TZID=Europe/Berlin:20260129T120000
DTSTAMP:20260422T015908
CREATED:20260117T111245Z
LAST-MODIFIED:20260117T111245Z
UID:10011582-1769680800-1769688000@www.ekgt.de
SUMMARY:Nähcoaching im Haus der Begegnung
DESCRIPTION:Kreatives Arbeiten in der Wunderwelt des Nähens \nUnter Anleitung erfahrener Schneiderinnen können die Teilnehmer eigene Projekte an der Nähmaschine erstellen. \nKurs mit 5 Terminen bis 19.02.2026 jeweils mittwochs \nKosten je Teilnehmer:  50 €
URL:https://www.ekgt.de/veranstaltung/naehcoaching-im-haus-der-begegnung/2026-01-29/
LOCATION:Haus der Begegnung\, Kirchstr. 14a\, Gütersloh\, 33330\, Deutschland
CATEGORIES:hdb-kreativ-naehen
ORGANIZER;CN="Haus der Begegnung":MAILTO:hausderbegegnung@ekgt.de
END:VEVENT
BEGIN:VEVENT
DTSTART;TZID=Europe/Berlin:20260129T143000
DTEND;TZID=Europe/Berlin:20260129T163000
DTSTAMP:20260422T015908
CREATED:20251230T151859Z
LAST-MODIFIED:20251230T151859Z
UID:10011520-1769697000-1769704200@www.ekgt.de
SUMMARY:Bingo im Haus der Begegnung
DESCRIPTION:Reagieren und Konzentrieren – spielerisch geübt\nLeitung: Fr. Elisabeth Kleinschmidt \n  \nWeitere Informationen finden Sie\, wenn Sie hier klicken.
URL:https://www.ekgt.de/veranstaltung/bingo-im-haus-der-begegnung-3/
LOCATION:Haus der Begegnung\, Kirchstr. 14a\, Gütersloh\, 33330\, Deutschland
CATEGORIES:HdB-Spiele-Bingo
ORGANIZER;CN="Haus der Begegnung":MAILTO:hausderbegegnung@ekgt.de
END:VEVENT
BEGIN:VEVENT
DTSTART;TZID=Europe/Berlin:20260129T150000
DTEND;TZID=Europe/Berlin:20260129T160000
DTSTAMP:20260422T015908
CREATED:20251230T110235Z
LAST-MODIFIED:20251230T111859Z
UID:10011447-1769698800-1769702400@www.ekgt.de
SUMMARY:Seniorenfitness im Haus der Begegnung
DESCRIPTION:Leitung: Fr. Straube \nFür weitere Infos bitte hier klicken.
URL:https://www.ekgt.de/veranstaltung/seniorenfitness-im-haus-der-begegnung-3/2026-01-29/
LOCATION:Haus der Begegnung\, Kirchstr. 14a\, Gütersloh\, 33330\, Deutschland
CATEGORIES:hdb-sport-gym
ORGANIZER;CN="Haus der Begegnung":MAILTO:hausderbegegnung@ekgt.de
END:VEVENT
BEGIN:VEVENT
DTSTART;TZID=Europe/Berlin:20260129T164500
DTEND;TZID=Europe/Berlin:20260129T190000
DTSTAMP:20260422T015908
CREATED:20190220T201827Z
LAST-MODIFIED:20230830T123609Z
UID:10003701-1769705100-1769713200@www.ekgt.de
SUMMARY:Chorprobe Jugendchor Matthäus
DESCRIPTION:
URL:https://www.ekgt.de/veranstaltung/chorprobe-jugendchor-matthaeus/2026-01-29/
LOCATION:Matthäuskirche\, Auf der Haar 64\, Gütersloh\, 33332\, Deutschland
CATEGORIES:Matthäuskirche und -gemeindezentrum
ORGANIZER;CN="P. He%C3%9Fler":MAILTO:matthaeus-chor-guetersloh@t-online.de
END:VEVENT
BEGIN:VEVENT
DTSTART;TZID=Europe/Berlin:20260129T170000
DTEND;TZID=Europe/Berlin:20260129T190000
DTSTAMP:20260422T015908
CREATED:20260117T111338Z
LAST-MODIFIED:20260117T111338Z
UID:10011592-1769706000-1769713200@www.ekgt.de
SUMMARY:Nähcoaching im Haus der Begegnung
DESCRIPTION:Kreatives Arbeiten in der Wunderwelt des Nähens \nUnter Anleitung erfahrener Schneiderinnen können die Teilnehmer eigene Projekte an der Nähmaschine erstellen. \nKurs mit 5 Terminen bis 19.02.2026 jeweils mittwochs \nKosten je Teilnehmer:  50 €
URL:https://www.ekgt.de/veranstaltung/naehcoaching-im-haus-der-begegnung-2/2026-01-29/
LOCATION:Haus der Begegnung\, Kirchstr. 14a\, Gütersloh\, 33330\, Deutschland
CATEGORIES:hdb-kreativ-naehen
ORGANIZER;CN="Haus der Begegnung":MAILTO:hausderbegegnung@ekgt.de
END:VEVENT
BEGIN:VEVENT
DTSTART;TZID=Europe/Berlin:20260129T193000
DTEND;TZID=Europe/Berlin:20260129T210000
DTSTAMP:20260422T015908
CREATED:20190220T185133Z
LAST-MODIFIED:20241027T080839Z
UID:10003911-1769715000-1769720400@www.ekgt.de
SUMMARY:Chorprobe After8Chor
DESCRIPTION:
URL:https://www.ekgt.de/veranstaltung/chorprobe-after8chor/2026-01-29/
LOCATION:Matthäuskirche\, Auf der Haar 64\, Gütersloh\, 33332\, Deutschland
CATEGORIES:After8Chor,Matthäuskirche und -gemeindezentrum
ORGANIZER;CN="P. He%C3%9Fler":MAILTO:matthaeus-chor-guetersloh@t-online.de
END:VEVENT
END:VCALENDAR