BEGIN:VCALENDAR
VERSION:2.0
PRODID:-//Evangelische Kirchengemeinde Gütersloh - ECPv6.5.0.1//NONSGML v1.0//EN
CALSCALE:GREGORIAN
METHOD:PUBLISH
X-ORIGINAL-URL:https://www.ekgt.de
X-WR-CALDESC:Veranstaltungen für Evangelische Kirchengemeinde Gütersloh
REFRESH-INTERVAL;VALUE=DURATION:PT1H
X-Robots-Tag:noindex
X-PUBLISHED-TTL:PT1H
BEGIN:VTIMEZONE
TZID:Europe/Berlin
BEGIN:DAYLIGHT
TZOFFSETFROM:+0100
TZOFFSETTO:+0200
TZNAME:CEST
DTSTART:20260329T010000
END:DAYLIGHT
BEGIN:STANDARD
TZOFFSETFROM:+0200
TZOFFSETTO:+0100
TZNAME:CET
DTSTART:20261025T010000
END:STANDARD
END:VTIMEZONE
BEGIN:VEVENT
DTSTART;TZID=Europe/Berlin:20260128T100000
DTEND;TZID=Europe/Berlin:20260128T113000
DTSTAMP:20260421T142220
CREATED:20251230T105421Z
LAST-MODIFIED:20251230T151658Z
UID:10011458-1769594400-1769599800@www.ekgt.de
SUMMARY:Gedächtnistraining - leicht gemacht! Kurs im Haus der Begegnung
DESCRIPTION:Herzliche Einladung zu dem Gedächtnistraining am Mittwoch \nLeitung: Susanne Schreiber \nAnmeldung ab sofort im Büro des HdB- 22292-15 oder per Mail: hausderbegegnung@ekgt.de.
URL:https://www.ekgt.de/veranstaltung/gedaechtnistraining-leicht-gemacht-kurs-im-haus-der-begegnung-2/2026-01-28/
LOCATION:Haus der Begegnung\, Kirchstr. 14a\, Gütersloh\, 33330\, Deutschland
CATEGORIES:hdb-sport-gedacht
ORGANIZER;CN="Haus der Begegnung":MAILTO:hausderbegegnung@ekgt.de
END:VEVENT
BEGIN:VEVENT
DTSTART;TZID=Europe/Berlin:20260128T143000
DTEND;TZID=Europe/Berlin:20260128T163000
DTSTAMP:20260421T142220
CREATED:20250908T154601Z
LAST-MODIFIED:20250908T154625Z
UID:10010345-1769610600-1769617800@www.ekgt.de
SUMMARY:Frauenhilfe Matthäus: Wintergeschichten
DESCRIPTION:Wir freuen uns auf Gäste und Frauen\, die unseren Kreis erweitern und bereichern. \nInfo: Gisela Kissel 05241 9046084 und Anneliese Eckert 05241 2119407
URL:https://www.ekgt.de/veranstaltung/frauenhilfe-matthaeus-wintergeschichten/
LOCATION:Matthäus Gemeindezentrum\, Auf der Haar 64\, Gütersloh\, 33332\, Deutschland
CATEGORIES:Frauenhilfe Matthäus
END:VEVENT
BEGIN:VEVENT
DTSTART;TZID=Europe/Berlin:20260128T143000
DTEND;TZID=Europe/Berlin:20260128T163000
DTSTAMP:20260421T142220
CREATED:20250903T091500Z
LAST-MODIFIED:20250903T091543Z
UID:10010193-1769610600-1769617800@www.ekgt.de
SUMMARY:Strickcafé im Haus der Begegnung
DESCRIPTION:Leiterin: Gabriele Vorholt \nFür weitere Informationen klicken Sie bitte hier.
URL:https://www.ekgt.de/veranstaltung/strickcafe-im-haus-der-begegnung-3/2026-01-28/
LOCATION:Haus der Begegnung\, Kirchstr. 14a\, Gütersloh\, 33330\, Deutschland
CATEGORIES:hdb-kreativ-stricken
ORGANIZER;CN="Haus der Begegnung":MAILTO:hausderbegegnung@ekgt.de
END:VEVENT
BEGIN:VEVENT
DTSTART;TZID=Europe/Berlin:20260128T150000
DTEND;TZID=Europe/Berlin:20260128T150000
DTSTAMP:20260421T142220
CREATED:20251128T165211Z
LAST-MODIFIED:20251128T165211Z
UID:10011151-1769612400-1769612400@www.ekgt.de
SUMMARY:Frauenhilfe im Haus der Begegnung
DESCRIPTION:Ingrid Müller berichtet über die Gebetswoche des Christenrates
URL:https://www.ekgt.de/veranstaltung/frauenhilfe-im-haus-der-begegnung-8/
LOCATION:Haus der Begegnung\, Kirchstr. 14a\, Gütersloh\, 33330\, Deutschland
CATEGORIES:Haus der Begegnung - VA der Apostelkirche,Apostelkirche
ATTACH;FMTTYPE=image/jpeg:https://www.ekgt.de/inhalt/uploads/2018/07/haus-der-begegnung_kirche.jpg
ORGANIZER;CN="Pfn. i.R. Engelbrecht":MAILTO:Erika.Engelbrecht@ekgt.de
END:VEVENT
BEGIN:VEVENT
DTSTART;TZID=Europe/Berlin:20260128T190000
DTEND;TZID=Europe/Berlin:20260128T190000
DTSTAMP:20260421T142220
CREATED:20240409T142312Z
LAST-MODIFIED:20240409T142943Z
UID:10005461-1769626800-1769626800@www.ekgt.de
SUMMARY:Abendgebet in der Wochenmitte in der Matthäuskirche
DESCRIPTION:In den Aktivitäten unseres Alltags und des Gemeindelebens soll es in der Mitte der Woche einen Ort der Stille und des Gebets geben. Wir bieten einen Raum\, in die Stille zu gehen\, zu hören\, zu singen und mit Leib und Seele zu beten\, um gestärkt in unseren Alltag zu gehen. \nFür das Abendgebet ist an jedem Mittwoch (außerhalb der Schulferien) die Kirche geöffnet.\nEs beginnt um 19:30 Uhr und folgt einem einfachen Ablauf von Gebet\, Liedern\, Schriftlesung\, Stille und Segen. Um 19:55 Uhr endet das Abendgebet.\nAb 19:00 Uhr ist es möglich\, in der Kirche auf Bänkchen oder Stühlen in der Stille zu sitzen. In dieser Gebetsform geht es darum\, sich mit seiner Person der Gegenwart des lebendigen Gottes hinzuhalten: einfach da sein und schweigen. Zum Sitzen in der Stille sind auch Neugierige und AnfängerInnen willkommen. \nWir geben gerne eine kleine Einführung.
URL:https://www.ekgt.de/veranstaltung/abendgebet-in-der-wochenmitte-in-der-matthaeuskirche/2026-01-28/
LOCATION:Matthäuskirche\, Auf der Haar 64\, Gütersloh\, 33332\, Deutschland
CATEGORIES:Matthäuskirche,meditative Angebote,Matthäuskirche und -gemeindezentrum
END:VEVENT
END:VCALENDAR