BEGIN:VCALENDAR
VERSION:2.0
PRODID:-//Evangelische Kirchengemeinde Gütersloh - ECPv6.5.0.1//NONSGML v1.0//EN
CALSCALE:GREGORIAN
METHOD:PUBLISH
X-ORIGINAL-URL:https://www.ekgt.de
X-WR-CALDESC:Veranstaltungen für Evangelische Kirchengemeinde Gütersloh
REFRESH-INTERVAL;VALUE=DURATION:PT1H
X-Robots-Tag:noindex
X-PUBLISHED-TTL:PT1H
BEGIN:VTIMEZONE
TZID:Europe/Berlin
BEGIN:DAYLIGHT
TZOFFSETFROM:+0100
TZOFFSETTO:+0200
TZNAME:CEST
DTSTART:20260329T010000
END:DAYLIGHT
BEGIN:STANDARD
TZOFFSETFROM:+0200
TZOFFSETTO:+0100
TZNAME:CET
DTSTART:20261025T010000
END:STANDARD
END:VTIMEZONE
BEGIN:VEVENT
DTSTART;TZID=Europe/Berlin:20260427T100000
DTEND;TZID=Europe/Berlin:20260427T110000
DTSTAMP:20260421T162148
CREATED:20260211T151138Z
LAST-MODIFIED:20260211T151138Z
UID:10011666-1777284000-1777287600@www.ekgt.de
SUMMARY:Bewegtes Gedächtnistraining - Kurs im Haus der Begegnung
DESCRIPTION:Herzliche Einladung zu einem neuen Kurs mit 10 Terminen: \nBewegtes Gedächtnistraining – mit Petra Rohde. \nBeginn am Montag\, 16.03.2026 \nKosten: 50 EUR\nAnmeldung ab sofort im Büro des HdB- 22292-15 oder per Mail: hausderbegegnung@ekgt.de.
URL:https://www.ekgt.de/veranstaltung/bewegtes-gedaechtnistraining-kurs-im-haus-der-begegnung-2/2026-04-27/
LOCATION:Haus der Begegnung\, Kirchstr. 14a\, Gütersloh\, 33330\, Deutschland
CATEGORIES:hdb-sport-gedacht
ORGANIZER;CN="Haus der Begegnung":MAILTO:hausderbegegnung@ekgt.de
END:VEVENT
BEGIN:VEVENT
DTSTART;TZID=Europe/Berlin:20260504T100000
DTEND;TZID=Europe/Berlin:20260504T110000
DTSTAMP:20260421T162148
CREATED:20260211T151138Z
LAST-MODIFIED:20260211T151138Z
UID:10011667-1777888800-1777892400@www.ekgt.de
SUMMARY:Bewegtes Gedächtnistraining - Kurs im Haus der Begegnung
DESCRIPTION:Herzliche Einladung zu einem neuen Kurs mit 10 Terminen: \nBewegtes Gedächtnistraining – mit Petra Rohde. \nBeginn am Montag\, 16.03.2026 \nKosten: 50 EUR\nAnmeldung ab sofort im Büro des HdB- 22292-15 oder per Mail: hausderbegegnung@ekgt.de.
URL:https://www.ekgt.de/veranstaltung/bewegtes-gedaechtnistraining-kurs-im-haus-der-begegnung-2/2026-05-04/
LOCATION:Haus der Begegnung\, Kirchstr. 14a\, Gütersloh\, 33330\, Deutschland
CATEGORIES:hdb-sport-gedacht
ORGANIZER;CN="Haus der Begegnung":MAILTO:hausderbegegnung@ekgt.de
END:VEVENT
BEGIN:VEVENT
DTSTART;TZID=Europe/Berlin:20260511T100000
DTEND;TZID=Europe/Berlin:20260511T110000
DTSTAMP:20260421T162148
CREATED:20260211T151138Z
LAST-MODIFIED:20260211T151138Z
UID:10011668-1778493600-1778497200@www.ekgt.de
SUMMARY:Bewegtes Gedächtnistraining - Kurs im Haus der Begegnung
DESCRIPTION:Herzliche Einladung zu einem neuen Kurs mit 10 Terminen: \nBewegtes Gedächtnistraining – mit Petra Rohde. \nBeginn am Montag\, 16.03.2026 \nKosten: 50 EUR\nAnmeldung ab sofort im Büro des HdB- 22292-15 oder per Mail: hausderbegegnung@ekgt.de.
URL:https://www.ekgt.de/veranstaltung/bewegtes-gedaechtnistraining-kurs-im-haus-der-begegnung-2/2026-05-11/
LOCATION:Haus der Begegnung\, Kirchstr. 14a\, Gütersloh\, 33330\, Deutschland
CATEGORIES:hdb-sport-gedacht
ORGANIZER;CN="Haus der Begegnung":MAILTO:hausderbegegnung@ekgt.de
END:VEVENT
BEGIN:VEVENT
DTSTART;TZID=Europe/Berlin:20260518T100000
DTEND;TZID=Europe/Berlin:20260518T110000
DTSTAMP:20260421T162148
CREATED:20260211T151138Z
LAST-MODIFIED:20260211T151138Z
UID:10011669-1779098400-1779102000@www.ekgt.de
SUMMARY:Bewegtes Gedächtnistraining - Kurs im Haus der Begegnung
DESCRIPTION:Herzliche Einladung zu einem neuen Kurs mit 10 Terminen: \nBewegtes Gedächtnistraining – mit Petra Rohde. \nBeginn am Montag\, 16.03.2026 \nKosten: 50 EUR\nAnmeldung ab sofort im Büro des HdB- 22292-15 oder per Mail: hausderbegegnung@ekgt.de.
URL:https://www.ekgt.de/veranstaltung/bewegtes-gedaechtnistraining-kurs-im-haus-der-begegnung-2/2026-05-18/
LOCATION:Haus der Begegnung\, Kirchstr. 14a\, Gütersloh\, 33330\, Deutschland
CATEGORIES:hdb-sport-gedacht
ORGANIZER;CN="Haus der Begegnung":MAILTO:hausderbegegnung@ekgt.de
END:VEVENT
END:VCALENDAR