BEGIN:VCALENDAR
VERSION:2.0
PRODID:-//Evangelische Kirchengemeinde Gütersloh - ECPv6.5.0.1//NONSGML v1.0//EN
CALSCALE:GREGORIAN
METHOD:PUBLISH
X-ORIGINAL-URL:https://www.ekgt.de
X-WR-CALDESC:Veranstaltungen für Evangelische Kirchengemeinde Gütersloh
REFRESH-INTERVAL;VALUE=DURATION:PT1H
X-Robots-Tag:noindex
X-PUBLISHED-TTL:PT1H
BEGIN:VTIMEZONE
TZID:Europe/Berlin
BEGIN:DAYLIGHT
TZOFFSETFROM:+0100
TZOFFSETTO:+0200
TZNAME:CEST
DTSTART:20260329T010000
END:DAYLIGHT
BEGIN:STANDARD
TZOFFSETFROM:+0200
TZOFFSETTO:+0100
TZNAME:CET
DTSTART:20261025T010000
END:STANDARD
END:VTIMEZONE
BEGIN:VEVENT
DTSTART;TZID=Europe/Berlin:20260322T103000
DTEND;TZID=Europe/Berlin:20260322T103000
DTSTAMP:20260421T212954
CREATED:20260227T200218Z
LAST-MODIFIED:20260227T200233Z
UID:10011734-1774175400-1774175400@www.ekgt.de
SUMMARY:Gottesdienst zum Thema "Tierrechte" in der Martin-Luther-Kirche
DESCRIPTION:
URL:https://www.ekgt.de/veranstaltung/gottesdienst-zum-thema-tierrechte-in-der-martin-luther-kirche/
LOCATION:Martin-Luther-Kirche\, Deutschland
CATEGORIES:Communiapp,Gottesdienste,Martin-Luther-Kirche
END:VEVENT
BEGIN:VEVENT
DTSTART;TZID=Europe/Berlin:20260222T103000
DTEND;TZID=Europe/Berlin:20260222T103000
DTSTAMP:20260421T212954
CREATED:20251102T102921Z
LAST-MODIFIED:20260218T143255Z
UID:10011023-1771756200-1771756200@www.ekgt.de
SUMMARY:Gottesdienst mit der Möglichkeit zur persönlichen Segnung in der Matthäuskirche\, anschl. Mittagessen
DESCRIPTION:
URL:https://www.ekgt.de/veranstaltung/gottesdienst-in-der-matthaeuskirche-3/
LOCATION:Matthäuskirche\, Auf der Haar 64\, Gütersloh\, 33332\, Deutschland
CATEGORIES:Communiapp,Gottesdienste Matthäus,Matthäuskirche,Gottesdienste
END:VEVENT
BEGIN:VEVENT
DTSTART;TZID=Europe/Berlin:20260208T100000
DTEND;TZID=Europe/Berlin:20260208T100000
DTSTAMP:20260421T212954
CREATED:20251102T101006Z
LAST-MODIFIED:20251102T104338Z
UID:10011026-1770544800-1770544800@www.ekgt.de
SUMMARY:interreligiöser Gottesdienst zum Abschluss der Vesperkirche
DESCRIPTION:
URL:https://www.ekgt.de/veranstaltung/interreligioeser-gottesdienst-zum-abschluss-der-vesperkirche/
LOCATION:Martin-Luther-Kirche\, Berliner Platz\, Gütersloh\, 33330\, Deutschland
CATEGORIES:Communiapp,Gottesdienste,Martin-Luther-Kirche
END:VEVENT
BEGIN:VEVENT
DTSTART;TZID=Europe/Berlin:20260201T100000
DTEND;TZID=Europe/Berlin:20260201T100000
DTSTAMP:20260421T212954
CREATED:20251102T100534Z
LAST-MODIFIED:20251102T100804Z
UID:10011016-1769940000-1769940000@www.ekgt.de
SUMMARY:interreligiöser Gottesdienst zur Eröffnung der Vesperkirche
DESCRIPTION:
URL:https://www.ekgt.de/veranstaltung/interreligioeser-gottesdienst-zur-eroeffnung-der-vesperkirche/
LOCATION:Martin-Luther-Kirche\, Berliner Platz\, Gütersloh\, 33330\, Deutschland
CATEGORIES:Communiapp,Gottesdienste,Martin-Luther-Kirche
END:VEVENT
END:VCALENDAR