BEGIN:VCALENDAR
VERSION:2.0
PRODID:-//Evangelische Kirchengemeinde Gütersloh - ECPv6.5.0.1//NONSGML v1.0//EN
CALSCALE:GREGORIAN
METHOD:PUBLISH
X-ORIGINAL-URL:https://www.ekgt.de
X-WR-CALDESC:Veranstaltungen für Evangelische Kirchengemeinde Gütersloh
REFRESH-INTERVAL;VALUE=DURATION:PT1H
X-Robots-Tag:noindex
X-PUBLISHED-TTL:PT1H
BEGIN:VTIMEZONE
TZID:Europe/Berlin
BEGIN:DAYLIGHT
TZOFFSETFROM:+0100
TZOFFSETTO:+0200
TZNAME:CEST
DTSTART:20260329T010000
END:DAYLIGHT
BEGIN:STANDARD
TZOFFSETFROM:+0200
TZOFFSETTO:+0100
TZNAME:CET
DTSTART:20261025T010000
END:STANDARD
END:VTIMEZONE
BEGIN:VEVENT
DTSTART;TZID=Europe/Berlin:20260426T110000
DTEND;TZID=Europe/Berlin:20260426T110000
DTSTAMP:20260421T180037
CREATED:20260323T114742Z
LAST-MODIFIED:20260323T114806Z
UID:10011798-1777201200-1777201200@www.ekgt.de
SUMMARY:Familienoase in der Erlöserkirche (!)
DESCRIPTION:
URL:https://www.ekgt.de/veranstaltung/familienoase-in-der-erloeserkirche/
LOCATION:Erlöserkirche\, An der Erlöserkapelle 7\, Gütersloh\, 33332\, Deutschland
CATEGORIES:Communiapp,Erlöserkirche,Gottesdienste,Kindergottesdienst
END:VEVENT
END:VCALENDAR