BEGIN:VCALENDAR
VERSION:2.0
PRODID:-//Evangelische Kirchengemeinde Gütersloh - ECPv6.5.0.1//NONSGML v1.0//EN
CALSCALE:GREGORIAN
METHOD:PUBLISH
X-ORIGINAL-URL:https://www.ekgt.de
X-WR-CALDESC:Veranstaltungen für Evangelische Kirchengemeinde Gütersloh
REFRESH-INTERVAL;VALUE=DURATION:PT1H
X-Robots-Tag:noindex
X-PUBLISHED-TTL:PT1H
BEGIN:VTIMEZONE
TZID:Europe/Berlin
BEGIN:DAYLIGHT
TZOFFSETFROM:+0100
TZOFFSETTO:+0200
TZNAME:CEST
DTSTART:20260329T010000
END:DAYLIGHT
BEGIN:STANDARD
TZOFFSETFROM:+0200
TZOFFSETTO:+0100
TZNAME:CET
DTSTART:20261025T010000
END:STANDARD
END:VTIMEZONE
BEGIN:VEVENT
DTSTART;TZID=Europe/Berlin:20260405T110000
DTEND;TZID=Europe/Berlin:20260405T110000
DTSTAMP:20260424T114512
CREATED:20260302T093300Z
LAST-MODIFIED:20260302T093318Z
UID:10011755-1775386800-1775386800@www.ekgt.de
SUMMARY:Ostergottesdienst mit dem Bläserchor der Erlöserkirche in der Erlöserkirche
DESCRIPTION:
URL:https://www.ekgt.de/veranstaltung/ostergottesdienst-mit-dem-blaeserchor-der-erloeserkirche-in-der-erloeserkirche/
LOCATION:Erlöserkirche\, An der Erlöserkapelle 7\, Gütersloh\, 33332\, Deutschland
CATEGORIES:Communiapp,Erlöserkirche,Gottesdienste
END:VEVENT
BEGIN:VEVENT
DTSTART;TZID=Europe/Berlin:20260315T110000
DTEND;TZID=Europe/Berlin:20260315T110000
DTSTAMP:20260424T114512
CREATED:20260227T195858Z
LAST-MODIFIED:20260227T195917Z
UID:10011733-1773572400-1773572400@www.ekgt.de
SUMMARY:Gottesdienst in der Erlöserkirche
DESCRIPTION:
URL:https://www.ekgt.de/veranstaltung/gottesdienst-in-der-erloeserkirche/
LOCATION:Erlöserkirche\, An der Erlöserkapelle 7\, Gütersloh\, 33332\, Deutschland
CATEGORIES:Communiapp,Erlöserkirche,Gottesdienste
END:VEVENT
END:VCALENDAR