BEGIN:VCALENDAR
VERSION:2.0
PRODID:-//Evangelische Kirchengemeinde Gütersloh - ECPv6.5.0.1//NONSGML v1.0//EN
CALSCALE:GREGORIAN
METHOD:PUBLISH
X-WR-CALNAME:Evangelische Kirchengemeinde Gütersloh
X-ORIGINAL-URL:https://www.ekgt.de
X-WR-CALDESC:Veranstaltungen für Evangelische Kirchengemeinde Gütersloh
REFRESH-INTERVAL;VALUE=DURATION:PT1H
X-Robots-Tag:noindex
X-PUBLISHED-TTL:PT1H
BEGIN:VTIMEZONE
TZID:Europe/Berlin
BEGIN:DAYLIGHT
TZOFFSETFROM:+0100
TZOFFSETTO:+0200
TZNAME:CEST
DTSTART:20300331T010000
END:DAYLIGHT
BEGIN:STANDARD
TZOFFSETFROM:+0200
TZOFFSETTO:+0100
TZNAME:CET
DTSTART:20301027T010000
END:STANDARD
END:VTIMEZONE
BEGIN:VEVENT
DTSTART;TZID=Europe/Berlin:20300226T100000
DTEND;TZID=Europe/Berlin:20300226T100000
DTSTAMP:20260424T225217
CREATED:20250809T101217Z
LAST-MODIFIED:20250809T101256Z
UID:10009792-1898330400-1898330400@www.ekgt.de
SUMMARY:Mobilitätstraining
DESCRIPTION:
URL:https://www.ekgt.de/veranstaltung/mobilitaetstraining/2030-02-26/
LOCATION:Matthäus Gemeindezentrum\, Auf der Haar 64\, Gütersloh\, 33332\, Deutschland
CATEGORIES:Communiapp,Netzwerk 55plus
ORGANIZER;CN="Gaby Erdsiek":MAILTO:gaby.erdsiek@web.de
END:VEVENT
BEGIN:VEVENT
DTSTART;TZID=Europe/Berlin:20300305T100000
DTEND;TZID=Europe/Berlin:20300305T100000
DTSTAMP:20260424T225217
CREATED:20250809T101217Z
LAST-MODIFIED:20250809T101256Z
UID:10009793-1898935200-1898935200@www.ekgt.de
SUMMARY:Mobilitätstraining
DESCRIPTION:
URL:https://www.ekgt.de/veranstaltung/mobilitaetstraining/2030-03-05/
LOCATION:Matthäus Gemeindezentrum\, Auf der Haar 64\, Gütersloh\, 33332\, Deutschland
CATEGORIES:Communiapp,Netzwerk 55plus
ORGANIZER;CN="Gaby Erdsiek":MAILTO:gaby.erdsiek@web.de
END:VEVENT
BEGIN:VEVENT
DTSTART;TZID=Europe/Berlin:20300312T100000
DTEND;TZID=Europe/Berlin:20300312T100000
DTSTAMP:20260424T225217
CREATED:20250809T101217Z
LAST-MODIFIED:20250809T101256Z
UID:10009794-1899540000-1899540000@www.ekgt.de
SUMMARY:Mobilitätstraining
DESCRIPTION:
URL:https://www.ekgt.de/veranstaltung/mobilitaetstraining/2030-03-12/
LOCATION:Matthäus Gemeindezentrum\, Auf der Haar 64\, Gütersloh\, 33332\, Deutschland
CATEGORIES:Communiapp,Netzwerk 55plus
ORGANIZER;CN="Gaby Erdsiek":MAILTO:gaby.erdsiek@web.de
END:VEVENT
BEGIN:VEVENT
DTSTART;TZID=Europe/Berlin:20300319T100000
DTEND;TZID=Europe/Berlin:20300319T100000
DTSTAMP:20260424T225217
CREATED:20250809T101217Z
LAST-MODIFIED:20250809T101256Z
UID:10009795-1900144800-1900144800@www.ekgt.de
SUMMARY:Mobilitätstraining
DESCRIPTION:
URL:https://www.ekgt.de/veranstaltung/mobilitaetstraining/2030-03-19/
LOCATION:Matthäus Gemeindezentrum\, Auf der Haar 64\, Gütersloh\, 33332\, Deutschland
CATEGORIES:Communiapp,Netzwerk 55plus
ORGANIZER;CN="Gaby Erdsiek":MAILTO:gaby.erdsiek@web.de
END:VEVENT
BEGIN:VEVENT
DTSTART;TZID=Europe/Berlin:20300326T100000
DTEND;TZID=Europe/Berlin:20300326T100000
DTSTAMP:20260424T225217
CREATED:20250809T101217Z
LAST-MODIFIED:20250809T101256Z
UID:10009796-1900749600-1900749600@www.ekgt.de
SUMMARY:Mobilitätstraining
DESCRIPTION:
URL:https://www.ekgt.de/veranstaltung/mobilitaetstraining/2030-03-26/
LOCATION:Matthäus Gemeindezentrum\, Auf der Haar 64\, Gütersloh\, 33332\, Deutschland
CATEGORIES:Communiapp,Netzwerk 55plus
ORGANIZER;CN="Gaby Erdsiek":MAILTO:gaby.erdsiek@web.de
END:VEVENT
BEGIN:VEVENT
DTSTART;TZID=Europe/Berlin:20300402T100000
DTEND;TZID=Europe/Berlin:20300402T100000
DTSTAMP:20260424T225217
CREATED:20250809T101217Z
LAST-MODIFIED:20250809T101256Z
UID:10009797-1901354400-1901354400@www.ekgt.de
SUMMARY:Mobilitätstraining
DESCRIPTION:
URL:https://www.ekgt.de/veranstaltung/mobilitaetstraining/2030-04-02/
LOCATION:Matthäus Gemeindezentrum\, Auf der Haar 64\, Gütersloh\, 33332\, Deutschland
CATEGORIES:Communiapp,Netzwerk 55plus
ORGANIZER;CN="Gaby Erdsiek":MAILTO:gaby.erdsiek@web.de
END:VEVENT
BEGIN:VEVENT
DTSTART;TZID=Europe/Berlin:20300409T100000
DTEND;TZID=Europe/Berlin:20300409T100000
DTSTAMP:20260424T225217
CREATED:20250809T101217Z
LAST-MODIFIED:20250809T101256Z
UID:10009798-1901959200-1901959200@www.ekgt.de
SUMMARY:Mobilitätstraining
DESCRIPTION:
URL:https://www.ekgt.de/veranstaltung/mobilitaetstraining/2030-04-09/
LOCATION:Matthäus Gemeindezentrum\, Auf der Haar 64\, Gütersloh\, 33332\, Deutschland
CATEGORIES:Communiapp,Netzwerk 55plus
ORGANIZER;CN="Gaby Erdsiek":MAILTO:gaby.erdsiek@web.de
END:VEVENT
BEGIN:VEVENT
DTSTART;TZID=Europe/Berlin:20300416T100000
DTEND;TZID=Europe/Berlin:20300416T100000
DTSTAMP:20260424T225217
CREATED:20250809T101217Z
LAST-MODIFIED:20250809T101256Z
UID:10009799-1902564000-1902564000@www.ekgt.de
SUMMARY:Mobilitätstraining
DESCRIPTION:
URL:https://www.ekgt.de/veranstaltung/mobilitaetstraining/2030-04-16/
LOCATION:Matthäus Gemeindezentrum\, Auf der Haar 64\, Gütersloh\, 33332\, Deutschland
CATEGORIES:Communiapp,Netzwerk 55plus
ORGANIZER;CN="Gaby Erdsiek":MAILTO:gaby.erdsiek@web.de
END:VEVENT
BEGIN:VEVENT
DTSTART;TZID=Europe/Berlin:20300423T100000
DTEND;TZID=Europe/Berlin:20300423T100000
DTSTAMP:20260424T225217
CREATED:20250809T101217Z
LAST-MODIFIED:20250809T101256Z
UID:10009800-1903168800-1903168800@www.ekgt.de
SUMMARY:Mobilitätstraining
DESCRIPTION:
URL:https://www.ekgt.de/veranstaltung/mobilitaetstraining/2030-04-23/
LOCATION:Matthäus Gemeindezentrum\, Auf der Haar 64\, Gütersloh\, 33332\, Deutschland
CATEGORIES:Communiapp,Netzwerk 55plus
ORGANIZER;CN="Gaby Erdsiek":MAILTO:gaby.erdsiek@web.de
END:VEVENT
BEGIN:VEVENT
DTSTART;TZID=Europe/Berlin:20300430T100000
DTEND;TZID=Europe/Berlin:20300430T100000
DTSTAMP:20260424T225217
CREATED:20250809T101217Z
LAST-MODIFIED:20250809T101256Z
UID:10009801-1903773600-1903773600@www.ekgt.de
SUMMARY:Mobilitätstraining
DESCRIPTION:
URL:https://www.ekgt.de/veranstaltung/mobilitaetstraining/2030-04-30/
LOCATION:Matthäus Gemeindezentrum\, Auf der Haar 64\, Gütersloh\, 33332\, Deutschland
CATEGORIES:Communiapp,Netzwerk 55plus
ORGANIZER;CN="Gaby Erdsiek":MAILTO:gaby.erdsiek@web.de
END:VEVENT
BEGIN:VEVENT
DTSTART;TZID=Europe/Berlin:20300507T100000
DTEND;TZID=Europe/Berlin:20300507T100000
DTSTAMP:20260424T225217
CREATED:20250809T101217Z
LAST-MODIFIED:20250809T101256Z
UID:10009802-1904378400-1904378400@www.ekgt.de
SUMMARY:Mobilitätstraining
DESCRIPTION:
URL:https://www.ekgt.de/veranstaltung/mobilitaetstraining/2030-05-07/
LOCATION:Matthäus Gemeindezentrum\, Auf der Haar 64\, Gütersloh\, 33332\, Deutschland
CATEGORIES:Communiapp,Netzwerk 55plus
ORGANIZER;CN="Gaby Erdsiek":MAILTO:gaby.erdsiek@web.de
END:VEVENT
BEGIN:VEVENT
DTSTART;TZID=Europe/Berlin:20300514T100000
DTEND;TZID=Europe/Berlin:20300514T100000
DTSTAMP:20260424T225217
CREATED:20250809T101217Z
LAST-MODIFIED:20250809T101256Z
UID:10009803-1904983200-1904983200@www.ekgt.de
SUMMARY:Mobilitätstraining
DESCRIPTION:
URL:https://www.ekgt.de/veranstaltung/mobilitaetstraining/2030-05-14/
LOCATION:Matthäus Gemeindezentrum\, Auf der Haar 64\, Gütersloh\, 33332\, Deutschland
CATEGORIES:Communiapp,Netzwerk 55plus
ORGANIZER;CN="Gaby Erdsiek":MAILTO:gaby.erdsiek@web.de
END:VEVENT
BEGIN:VEVENT
DTSTART;TZID=Europe/Berlin:20300521T100000
DTEND;TZID=Europe/Berlin:20300521T100000
DTSTAMP:20260424T225217
CREATED:20250809T101217Z
LAST-MODIFIED:20250809T101256Z
UID:10009804-1905588000-1905588000@www.ekgt.de
SUMMARY:Mobilitätstraining
DESCRIPTION:
URL:https://www.ekgt.de/veranstaltung/mobilitaetstraining/2030-05-21/
LOCATION:Matthäus Gemeindezentrum\, Auf der Haar 64\, Gütersloh\, 33332\, Deutschland
CATEGORIES:Communiapp,Netzwerk 55plus
ORGANIZER;CN="Gaby Erdsiek":MAILTO:gaby.erdsiek@web.de
END:VEVENT
BEGIN:VEVENT
DTSTART;TZID=Europe/Berlin:20300528T100000
DTEND;TZID=Europe/Berlin:20300528T100000
DTSTAMP:20260424T225217
CREATED:20250809T101217Z
LAST-MODIFIED:20250809T101256Z
UID:10009805-1906192800-1906192800@www.ekgt.de
SUMMARY:Mobilitätstraining
DESCRIPTION:
URL:https://www.ekgt.de/veranstaltung/mobilitaetstraining/2030-05-28/
LOCATION:Matthäus Gemeindezentrum\, Auf der Haar 64\, Gütersloh\, 33332\, Deutschland
CATEGORIES:Communiapp,Netzwerk 55plus
ORGANIZER;CN="Gaby Erdsiek":MAILTO:gaby.erdsiek@web.de
END:VEVENT
BEGIN:VEVENT
DTSTART;TZID=Europe/Berlin:20300604T100000
DTEND;TZID=Europe/Berlin:20300604T100000
DTSTAMP:20260424T225217
CREATED:20250809T101217Z
LAST-MODIFIED:20250809T101256Z
UID:10009806-1906797600-1906797600@www.ekgt.de
SUMMARY:Mobilitätstraining
DESCRIPTION:
URL:https://www.ekgt.de/veranstaltung/mobilitaetstraining/2030-06-04/
LOCATION:Matthäus Gemeindezentrum\, Auf der Haar 64\, Gütersloh\, 33332\, Deutschland
CATEGORIES:Communiapp,Netzwerk 55plus
ORGANIZER;CN="Gaby Erdsiek":MAILTO:gaby.erdsiek@web.de
END:VEVENT
BEGIN:VEVENT
DTSTART;TZID=Europe/Berlin:20300611T100000
DTEND;TZID=Europe/Berlin:20300611T100000
DTSTAMP:20260424T225217
CREATED:20250809T101217Z
LAST-MODIFIED:20250809T101256Z
UID:10009807-1907402400-1907402400@www.ekgt.de
SUMMARY:Mobilitätstraining
DESCRIPTION:
URL:https://www.ekgt.de/veranstaltung/mobilitaetstraining/2030-06-11/
LOCATION:Matthäus Gemeindezentrum\, Auf der Haar 64\, Gütersloh\, 33332\, Deutschland
CATEGORIES:Communiapp,Netzwerk 55plus
ORGANIZER;CN="Gaby Erdsiek":MAILTO:gaby.erdsiek@web.de
END:VEVENT
BEGIN:VEVENT
DTSTART;TZID=Europe/Berlin:20300618T100000
DTEND;TZID=Europe/Berlin:20300618T100000
DTSTAMP:20260424T225217
CREATED:20250809T101217Z
LAST-MODIFIED:20250809T101256Z
UID:10009808-1908007200-1908007200@www.ekgt.de
SUMMARY:Mobilitätstraining
DESCRIPTION:
URL:https://www.ekgt.de/veranstaltung/mobilitaetstraining/2030-06-18/
LOCATION:Matthäus Gemeindezentrum\, Auf der Haar 64\, Gütersloh\, 33332\, Deutschland
CATEGORIES:Communiapp,Netzwerk 55plus
ORGANIZER;CN="Gaby Erdsiek":MAILTO:gaby.erdsiek@web.de
END:VEVENT
BEGIN:VEVENT
DTSTART;TZID=Europe/Berlin:20300625T100000
DTEND;TZID=Europe/Berlin:20300625T100000
DTSTAMP:20260424T225217
CREATED:20250809T101217Z
LAST-MODIFIED:20250809T101256Z
UID:10009809-1908612000-1908612000@www.ekgt.de
SUMMARY:Mobilitätstraining
DESCRIPTION:
URL:https://www.ekgt.de/veranstaltung/mobilitaetstraining/2030-06-25/
LOCATION:Matthäus Gemeindezentrum\, Auf der Haar 64\, Gütersloh\, 33332\, Deutschland
CATEGORIES:Communiapp,Netzwerk 55plus
ORGANIZER;CN="Gaby Erdsiek":MAILTO:gaby.erdsiek@web.de
END:VEVENT
BEGIN:VEVENT
DTSTART;TZID=Europe/Berlin:20300702T100000
DTEND;TZID=Europe/Berlin:20300702T100000
DTSTAMP:20260424T225217
CREATED:20250809T101217Z
LAST-MODIFIED:20250809T101256Z
UID:10009810-1909216800-1909216800@www.ekgt.de
SUMMARY:Mobilitätstraining
DESCRIPTION:
URL:https://www.ekgt.de/veranstaltung/mobilitaetstraining/2030-07-02/
LOCATION:Matthäus Gemeindezentrum\, Auf der Haar 64\, Gütersloh\, 33332\, Deutschland
CATEGORIES:Communiapp,Netzwerk 55plus
ORGANIZER;CN="Gaby Erdsiek":MAILTO:gaby.erdsiek@web.de
END:VEVENT
BEGIN:VEVENT
DTSTART;TZID=Europe/Berlin:20300709T100000
DTEND;TZID=Europe/Berlin:20300709T100000
DTSTAMP:20260424T225217
CREATED:20250809T101217Z
LAST-MODIFIED:20250809T101256Z
UID:10009811-1909821600-1909821600@www.ekgt.de
SUMMARY:Mobilitätstraining
DESCRIPTION:
URL:https://www.ekgt.de/veranstaltung/mobilitaetstraining/2030-07-09/
LOCATION:Matthäus Gemeindezentrum\, Auf der Haar 64\, Gütersloh\, 33332\, Deutschland
CATEGORIES:Communiapp,Netzwerk 55plus
ORGANIZER;CN="Gaby Erdsiek":MAILTO:gaby.erdsiek@web.de
END:VEVENT
BEGIN:VEVENT
DTSTART;TZID=Europe/Berlin:20300716T100000
DTEND;TZID=Europe/Berlin:20300716T100000
DTSTAMP:20260424T225217
CREATED:20250809T101217Z
LAST-MODIFIED:20250809T101256Z
UID:10009812-1910426400-1910426400@www.ekgt.de
SUMMARY:Mobilitätstraining
DESCRIPTION:
URL:https://www.ekgt.de/veranstaltung/mobilitaetstraining/2030-07-16/
LOCATION:Matthäus Gemeindezentrum\, Auf der Haar 64\, Gütersloh\, 33332\, Deutschland
CATEGORIES:Communiapp,Netzwerk 55plus
ORGANIZER;CN="Gaby Erdsiek":MAILTO:gaby.erdsiek@web.de
END:VEVENT
BEGIN:VEVENT
DTSTART;TZID=Europe/Berlin:20300723T100000
DTEND;TZID=Europe/Berlin:20300723T100000
DTSTAMP:20260424T225217
CREATED:20250809T101217Z
LAST-MODIFIED:20250809T101256Z
UID:10009813-1911031200-1911031200@www.ekgt.de
SUMMARY:Mobilitätstraining
DESCRIPTION:
URL:https://www.ekgt.de/veranstaltung/mobilitaetstraining/2030-07-23/
LOCATION:Matthäus Gemeindezentrum\, Auf der Haar 64\, Gütersloh\, 33332\, Deutschland
CATEGORIES:Communiapp,Netzwerk 55plus
ORGANIZER;CN="Gaby Erdsiek":MAILTO:gaby.erdsiek@web.de
END:VEVENT
BEGIN:VEVENT
DTSTART;TZID=Europe/Berlin:20300730T100000
DTEND;TZID=Europe/Berlin:20300730T100000
DTSTAMP:20260424T225217
CREATED:20250809T101217Z
LAST-MODIFIED:20250809T101256Z
UID:10009814-1911636000-1911636000@www.ekgt.de
SUMMARY:Mobilitätstraining
DESCRIPTION:
URL:https://www.ekgt.de/veranstaltung/mobilitaetstraining/2030-07-30/
LOCATION:Matthäus Gemeindezentrum\, Auf der Haar 64\, Gütersloh\, 33332\, Deutschland
CATEGORIES:Communiapp,Netzwerk 55plus
ORGANIZER;CN="Gaby Erdsiek":MAILTO:gaby.erdsiek@web.de
END:VEVENT
BEGIN:VEVENT
DTSTART;TZID=Europe/Berlin:20300806T100000
DTEND;TZID=Europe/Berlin:20300806T100000
DTSTAMP:20260424T225217
CREATED:20250809T101217Z
LAST-MODIFIED:20250809T101256Z
UID:10009815-1912240800-1912240800@www.ekgt.de
SUMMARY:Mobilitätstraining
DESCRIPTION:
URL:https://www.ekgt.de/veranstaltung/mobilitaetstraining/2030-08-06/
LOCATION:Matthäus Gemeindezentrum\, Auf der Haar 64\, Gütersloh\, 33332\, Deutschland
CATEGORIES:Communiapp,Netzwerk 55plus
ORGANIZER;CN="Gaby Erdsiek":MAILTO:gaby.erdsiek@web.de
END:VEVENT
BEGIN:VEVENT
DTSTART;TZID=Europe/Berlin:20300813T100000
DTEND;TZID=Europe/Berlin:20300813T100000
DTSTAMP:20260424T225217
CREATED:20250809T101217Z
LAST-MODIFIED:20250809T101256Z
UID:10011067-1912845600-1912845600@www.ekgt.de
SUMMARY:Mobilitätstraining
DESCRIPTION:
URL:https://www.ekgt.de/veranstaltung/mobilitaetstraining/2030-08-13/
LOCATION:Matthäus Gemeindezentrum\, Auf der Haar 64\, Gütersloh\, 33332\, Deutschland
CATEGORIES:Communiapp,Netzwerk 55plus
ORGANIZER;CN="Gaby Erdsiek":MAILTO:gaby.erdsiek@web.de
END:VEVENT
BEGIN:VEVENT
DTSTART;TZID=Europe/Berlin:20300820T100000
DTEND;TZID=Europe/Berlin:20300820T100000
DTSTAMP:20260424T225217
CREATED:20250809T101217Z
LAST-MODIFIED:20250809T101256Z
UID:10011068-1913450400-1913450400@www.ekgt.de
SUMMARY:Mobilitätstraining
DESCRIPTION:
URL:https://www.ekgt.de/veranstaltung/mobilitaetstraining/2030-08-20/
LOCATION:Matthäus Gemeindezentrum\, Auf der Haar 64\, Gütersloh\, 33332\, Deutschland
CATEGORIES:Communiapp,Netzwerk 55plus
ORGANIZER;CN="Gaby Erdsiek":MAILTO:gaby.erdsiek@web.de
END:VEVENT
BEGIN:VEVENT
DTSTART;TZID=Europe/Berlin:20300827T100000
DTEND;TZID=Europe/Berlin:20300827T100000
DTSTAMP:20260424T225217
CREATED:20250809T101217Z
LAST-MODIFIED:20250809T101256Z
UID:10011069-1914055200-1914055200@www.ekgt.de
SUMMARY:Mobilitätstraining
DESCRIPTION:
URL:https://www.ekgt.de/veranstaltung/mobilitaetstraining/2030-08-27/
LOCATION:Matthäus Gemeindezentrum\, Auf der Haar 64\, Gütersloh\, 33332\, Deutschland
CATEGORIES:Communiapp,Netzwerk 55plus
ORGANIZER;CN="Gaby Erdsiek":MAILTO:gaby.erdsiek@web.de
END:VEVENT
BEGIN:VEVENT
DTSTART;TZID=Europe/Berlin:20300903T100000
DTEND;TZID=Europe/Berlin:20300903T100000
DTSTAMP:20260424T225217
CREATED:20250809T101217Z
LAST-MODIFIED:20250809T101256Z
UID:10011070-1914660000-1914660000@www.ekgt.de
SUMMARY:Mobilitätstraining
DESCRIPTION:
URL:https://www.ekgt.de/veranstaltung/mobilitaetstraining/2030-09-03/
LOCATION:Matthäus Gemeindezentrum\, Auf der Haar 64\, Gütersloh\, 33332\, Deutschland
CATEGORIES:Communiapp,Netzwerk 55plus
ORGANIZER;CN="Gaby Erdsiek":MAILTO:gaby.erdsiek@web.de
END:VEVENT
BEGIN:VEVENT
DTSTART;TZID=Europe/Berlin:20300910T100000
DTEND;TZID=Europe/Berlin:20300910T100000
DTSTAMP:20260424T225217
CREATED:20250809T101217Z
LAST-MODIFIED:20250809T101256Z
UID:10011071-1915264800-1915264800@www.ekgt.de
SUMMARY:Mobilitätstraining
DESCRIPTION:
URL:https://www.ekgt.de/veranstaltung/mobilitaetstraining/2030-09-10/
LOCATION:Matthäus Gemeindezentrum\, Auf der Haar 64\, Gütersloh\, 33332\, Deutschland
CATEGORIES:Communiapp,Netzwerk 55plus
ORGANIZER;CN="Gaby Erdsiek":MAILTO:gaby.erdsiek@web.de
END:VEVENT
BEGIN:VEVENT
DTSTART;TZID=Europe/Berlin:20300917T100000
DTEND;TZID=Europe/Berlin:20300917T100000
DTSTAMP:20260424T225217
CREATED:20250809T101217Z
LAST-MODIFIED:20250809T101256Z
UID:10011072-1915869600-1915869600@www.ekgt.de
SUMMARY:Mobilitätstraining
DESCRIPTION:
URL:https://www.ekgt.de/veranstaltung/mobilitaetstraining/2030-09-17/
LOCATION:Matthäus Gemeindezentrum\, Auf der Haar 64\, Gütersloh\, 33332\, Deutschland
CATEGORIES:Communiapp,Netzwerk 55plus
ORGANIZER;CN="Gaby Erdsiek":MAILTO:gaby.erdsiek@web.de
END:VEVENT
END:VCALENDAR