BEGIN:VCALENDAR
VERSION:2.0
PRODID:-//Evangelische Kirchengemeinde Gütersloh - ECPv6.5.0.1//NONSGML v1.0//EN
CALSCALE:GREGORIAN
METHOD:PUBLISH
X-ORIGINAL-URL:https://www.ekgt.de
X-WR-CALDESC:Veranstaltungen für Evangelische Kirchengemeinde Gütersloh
REFRESH-INTERVAL;VALUE=DURATION:PT1H
X-Robots-Tag:noindex
X-PUBLISHED-TTL:PT1H
BEGIN:VTIMEZONE
TZID:Europe/Berlin
BEGIN:DAYLIGHT
TZOFFSETFROM:+0100
TZOFFSETTO:+0200
TZNAME:CEST
DTSTART:20260329T010000
END:DAYLIGHT
BEGIN:STANDARD
TZOFFSETFROM:+0200
TZOFFSETTO:+0100
TZNAME:CET
DTSTART:20261025T010000
END:STANDARD
END:VTIMEZONE
BEGIN:VEVENT
DTSTART;TZID=Europe/Berlin:20260518T190000
DTEND;TZID=Europe/Berlin:20260518T190000
DTSTAMP:20260421T142211
CREATED:20260110T102635Z
LAST-MODIFIED:20260110T102748Z
UID:10011548-1779130800-1779130800@www.ekgt.de
SUMMARY:Frauentreff Matthäus: Wir bekommen Besuch von 2 Frauen aus Tansania. Bei einem gemeinsamen Essen am mitgebrachten Buffet möchten wir uns näher kennen lernen
DESCRIPTION:Achtung: Montag!!!
URL:https://www.ekgt.de/veranstaltung/frauentreff-matthaeus-wir-bekommen-besuch-von-2-frauen-aus-tansania-bei-einem-gemeinsamen-essen-am-mitgebrachten-buffet-moechten-wir-uns-naeher-kennen-lernen/
LOCATION:Matthäus Gemeindezentrum\, Auf der Haar 64\, Gütersloh\, 33332\, Deutschland
CATEGORIES:Frauentreff
END:VEVENT
END:VCALENDAR